BEGIN:VCALENDAR
VERSION:2.0
PRODID:-//ChamberMaster//Event Calendar 2.0//EN
METHOD:PUBLISH
X-PUBLISHED-TTL:P3D
REFRESH-INTERVAL:P3D
CALSCALE:GREGORIAN
BEGIN:VEVENT
DTSTART:20250315T200000Z
DTEND:20250315T230000Z
X-MICROSOFT-CDO-ALLDAYEVENT:FALSE
SUMMARY:Kalmia Gardens Oyster Roast Fundraiser
DESCRIPTION:The Gardens' Annual Oyster Roast Fundraiser is just around the corner! Mark your calendars\; this year's event is on March 15th from 4 -7 p.m. Tickets are $75/person and include food and beverages. There will be a diverse variety of foods\, beer\, and wine for all to enjoy. Like most years\, this event will sell out\, so a great way to get tickets while supporting the Gardens is to become an oyster roast sponsor. Sponsorship levels and individual tickets are available on our website under the "Events" tab.\n\nTickets are also available from Board members or by calling the Gardens. Remember\, this is one of our biggest fundraisers\, so please come out and help support Kalmia Gardens.
X-ALT-DESC;FMTTYPE=text/html:The Gardens&rsquo\; Annual Oyster Roast Fundraiser is just around the corner! Mark your calendars\; this year&rsquo\;s event is on March 15th from 4 -7 p.m. Tickets are $75/person and include food and beverages. There will be a diverse variety of foods\, beer\, and wine for all to enjoy. Like most years\, this event will sell out\, so a great way to get tickets while supporting the Gardens is to become an oyster roast sponsor. Sponsorship levels and individual tickets are available on our website under the &ldquo\;<a href="https://donorbox.org/events/678748?mc_cid=b4e09c290a&amp\;mc_eid=ac6c9845d7">Events</a>&rdquo\; tab.<br />\nTickets are also available from Board members or by calling the Gardens. Remember\, this is one of our biggest fundraisers\, so please come out and help support Kalmia Gardens.
LOCATION:1624 West Carolina Ave. Hartsville\, SC 29550
UID:e.2045.3213
SEQUENCE:3
DTSTAMP:20260424T202402Z
URL:https://www.hartsvillechamber.org/events/details/kalmia-gardens-oyster-roast-fundraiser-03-15-2025-3213
END:VEVENT

END:VCALENDAR
