BEGIN:VCALENDAR
VERSION:2.0
PRODID:-//ChamberMaster//Event Calendar 2.0//EN
METHOD:PUBLISH
X-PUBLISHED-TTL:P3D
REFRESH-INTERVAL:P3D
CALSCALE:GREGORIAN
BEGIN:VEVENT
DTSTART:20240409T200000Z
DTEND:20240409T210000Z
X-MICROSOFT-CDO-ALLDAYEVENT:FALSE
SUMMARY:KID'S ACRYLIC WITH EMBER ESTRIDGE
DESCRIPTION:In each week of this four week class\, we will create an acrylic painting. Week 1 we will create a landscape painting of a daisy\, week 2 a painting of a penguin\, week 3 a painting of an elephant\, and week 4 a painting of a rocket.\n\nThis hour long class is geared for learners 7 to 11 year-olds. \n\nClass size 12 students.\n\nWHEN:\n\nTuesdays from 4:00-5:00pm\n\nApril 9th\, 16th\, 23rd. and 30th\n\nINVESTMENT:\n\n$25 per class\n\nOr $80 for all four classes\n\nABOUT THE TEACHER:\n\nI make illustrative art that is explorative and eclectic in nature. Using vivid colors and whimsical themes\, I seek to use art as a tool for coping and overcoming the discordant world we live in. Creating both sequential mass consumption pieces as well as stand-alone gallery pieces\, I desire my work to captivate a wide audience.\n\nAs an art educator in public Title 1 schools\, much of my work is inspired and created around the classroom. I tailor projects and lessons to engage and motivate students\, impacting my own art making in the process. The resourcefulness and inventiveness of creating art projects accessible to a wide range of students and ages allows me to see multiple possibilities for each art material.\n\nVisit Ember's Website: https://www.embersartwork.com/
X-ALT-DESC;FMTTYPE=text/html:<p>In each week of this four week class\, we will create an acrylic painting. Week 1 we will create a landscape painting of a daisy\, week 2 a painting of a penguin\, week 3 a painting of an elephant\, and week 4 a painting of a rocket.</p>\n\n<p>This hour long class is geared for learners 7 to 11 year-olds.&nbsp\;</p>\n\n<p>Class size 12 students.</p>\n\n<p><strong>WHEN:</strong></p>\n\n<p>Tuesdays from 4:00-5:00pm</p>\n\n<p>April 9th\, 16th\, 23rd. and 30th</p>\n\n<p><strong>INVESTMENT:</strong></p>\n\n<p>$25 per class</p>\n\n<p>Or $80 for all four classes</p>\n\n<p><strong>ABOUT THE TEACHER:</strong></p>\n\n<p>I make illustrative art that is explorative and eclectic in nature. Using vivid colors and whimsical themes\, I seek to use art as a tool for coping and overcoming the discordant world we live in. Creating both sequential mass consumption pieces as well as stand-alone gallery pieces\, I desire my work to captivate a wide audience.</p>\n\n<p>As an art educator in public Title 1 schools\, much of my work is inspired and created around the classroom. I tailor projects and lessons to engage and motivate students\, impacting my own art making in the process. The resourcefulness and inventiveness of creating art projects accessible to a wide range of students and ages allows me to see multiple possibilities for each art material.</p>\n\n<p>Visit Ember&rsquo\;s Website: https://www.embersartwork.com/</p>\n
LOCATION:Black Creek Arts
UID:e.2045.2529
SEQUENCE:3
DTSTAMP:20260425T155735Z
URL:https://www.hartsvillechamber.org/events/details/kid-s-acrylic-with-ember-estridge-2529
END:VEVENT

END:VCALENDAR
