BEGIN:VCALENDAR
VERSION:2.0
PRODID:-//ChamberMaster//Event Calendar 2.0//EN
METHOD:PUBLISH
X-PUBLISHED-TTL:P3D
REFRESH-INTERVAL:P3D
CALSCALE:GREGORIAN
BEGIN:VEVENT
DTSTART:20241215T190000Z
DTEND:20241215T213000Z
X-MICROSOFT-CDO-ALLDAYEVENT:FALSE
SUMMARY:Kid's and Community Holiday Art Hop
DESCRIPTION:The Kids and Community Holiday Art Hop is a community based indoor art sale where professional and child artists will have wacky\, beautiful\, and fun art available for purchase!\n\n \n\nThere will also be a sensory room\, free art activities and mini art workshops you can take for $5 per class! Stay tuned for details on that!\n\n\n\n*workshops will last approximately 25 minutes\n\n \n\nThe artworks are being prepared as we speak and we feel excited to share our hearts with you at this event!\n\nYour presence and purchases (big and small) play a huge role in building confidence and hope that our art has a place in our town.
X-ALT-DESC;FMTTYPE=text/html:<div>The Kids and Community Holiday Art Hop is a community based indoor art sale where professional and child artists will have wacky\, beautiful\, and fun art available for purchase!<br />\n&nbsp\;</div>\n\n<div>There will also be a sensory room\, free art activities and mini art workshops you can take for $5 per class! Stay tuned for details on that!<br />\n<br />\n*workshops will last approximately 25 minutes<br />\n&nbsp\;</div>\n\n<div>The artworks are being prepared as we speak and we feel excited to share our hearts with you at this event!</div>\n\n<div>Your presence and purchases (big and small) play a huge role in building confidence and hope that our art has a place in our town.</div>\n
LOCATION:Butler Heritage Foundation\, 1103 S. 6th St. Hartsville\, SC 29550
UID:e.2045.3079
SEQUENCE:3
DTSTAMP:20260425T031854Z
URL:https://www.hartsvillechamber.org/events/details/kid-s-and-community-holiday-art-hop-3079
END:VEVENT

END:VCALENDAR
