BEGIN:VCALENDAR
VERSION:2.0
PRODID:-//ChamberMaster//Event Calendar 2.0//EN
METHOD:PUBLISH
X-PUBLISHED-TTL:P3D
REFRESH-INTERVAL:P3D
CALSCALE:GREGORIAN
BEGIN:VEVENT
DTSTART:20250204T210000Z
DTEND:20250204T220000Z
X-MICROSOFT-CDO-ALLDAYEVENT:FALSE
SUMMARY:Kid's Art History in Acrylics with Ember Estridge
DESCRIPTION:Learn about famous artists and their paintings through acrylic! Acrylics dry rapidly\, serve as a vehicle for any kind of pigment\, and are capable of giving both the transparent brilliance of watercolor and the density of oil paint.\n\nEmber will be teaching about the following artists and their famous paintings: Pop artist Andy Warhol and his 1962 Cambell''s soup can series\, Modern artist Van Gogh and his 1889 painting Starry Night\, and Cubist artist Picasso and his abstracted faces. Students' will have an 8"x10" acrylic painting of their own to take home upon the completion of each class.\n\n*This hour and half long class is geared towards 10 to 15 year olds\n\n*Class size is 12 students\n\nDATES & TIMES:\n\nMondays from 4:00-5:30 pm\n\nFeb. 4th - Andy Warhol Soup Can\n\nFeb. 11th - Van Gogh Starry Night\n\nFeb. 25th - Picasso Abstract Faces\n\nCOST:\n\nOne class: $30 OR All Three Classes for $70\n\nAbout the Teacher:\n\nI make illustrative art that is explorative and eclectic in nature. Using vivid colors and whimsical themes\, I seek to use art as a tool for coping and overcoming the discordant world we live in. Creating both sequential mass consumption pieces as well as stand-alone gallery pieces\, I desire my work to captivate a wide audience.\n\nAs an art educator in public Title 1 schools\, much of my work is inspired and created around the classroom. I tailor projects and lessons to engage and motivate students\, impacting my own art making in the process. The resourcefulness and inventiveness of creating art projects accessible to a wide range of students and ages allows me to see multiple possibilities for each art material.\n\nVisit Ember's Website: https://www.embersartwork.com/
X-ALT-DESC;FMTTYPE=text/html:<p>Learn about famous artists and their paintings through acrylic! Acrylics dry rapidly\, serve as a vehicle for any kind of pigment\, and are capable of giving both the transparent brilliance of watercolor and the density of oil paint.</p>\n\n<p>Ember will be teaching about the following artists and their famous paintings: Pop artist Andy Warhol and his 1962 Cambell&rsquo\;&rsquo\;s soup can series\, Modern artist Van Gogh and his 1889 painting Starry Night\, and Cubist artist Picasso and his abstracted faces. Students&rsquo\; will have an 8&rdquo\;x10&rdquo\; acrylic painting of their own to take home upon the completion of each class.</p>\n\n<p>*This hour and half long class is geared towards 10 to 15 year olds</p>\n\n<p>*Class size is 12 students</p>\n\n<p><strong>DATES &amp\; TIMES:</strong></p>\n\n<p>Mondays from 4:00-5:30 pm</p>\n\n<p>Feb. 4th - Andy Warhol Soup Can</p>\n\n<p>Feb. 11th - Van Gogh Starry Night</p>\n\n<p>Feb. 25th - Picasso Abstract Faces</p>\n\n<p><strong>COST:</strong></p>\n\n<p>One class: $30 OR All Three Classes for $70</p>\n\n<p><strong>About the Teacher:</strong></p>\n\n<p>I make illustrative art that is explorative and eclectic in nature. Using vivid colors and whimsical themes\, I seek to use art as a tool for coping and overcoming the discordant world we live in. Creating both sequential mass consumption pieces as well as stand-alone gallery pieces\, I desire my work to captivate a wide audience.</p>\n\n<p>As an art educator in public Title 1 schools\, much of my work is inspired and created around the classroom. I tailor projects and lessons to engage and motivate students\, impacting my own art making in the process. The resourcefulness and inventiveness of creating art projects accessible to a wide range of students and ages allows me to see multiple possibilities for each art material.</p>\n\n<p>Visit Ember&rsquo\;s Website: https://www.embersartwork.com/</p>\n
LOCATION:Black Creek Arts
UID:e.2045.3207
SEQUENCE:3
DTSTAMP:20260424T221050Z
URL:https://www.hartsvillechamber.org/events/details/kid-s-art-history-in-acrylics-with-ember-estridge-3207
END:VEVENT

END:VCALENDAR
