BEGIN:VCALENDAR
VERSION:2.0
PRODID:-//ChamberMaster//Event Calendar 2.0//EN
METHOD:PUBLISH
X-PUBLISHED-TTL:P3D
REFRESH-INTERVAL:P3D
CALSCALE:GREGORIAN
BEGIN:VEVENT
DTSTART:20241113T003000Z
DTEND:20241113T020000Z
X-MICROSOFT-CDO-ALLDAYEVENT:FALSE
SUMMARY:KM Dance Project ‘Raw Fruit’
DESCRIPTION:November 12\, KM Dance Project 'Raw Fruit' \, 7:30 p.m.\, Watson Theater\; $15 students/seniors/livestream\, $30 General Admission\n\nRaw Fruit is a multidisciplinary work that is a collection of stories that reveal the essence of ancestral values which have been woven into the cultural fabric of Black folks' lives. Raw Fruit is steeped in New Orleans culture and layered with visceral movement created from the female lens of the African American experience in the South. From crawfish boils to second lines\, living room altars to junior daughters\, and bread pudding to pecan pralines\, these experiences\, rituals\, and ancestral contributions have created a web of lineage connecting present experiences with customs rooted in the past.\n\nThis performance and residency is funded in part by a grant from South Arts in partnership with the National Endowment for the Arts.
X-ALT-DESC;FMTTYPE=text/html:<p><strong>November 12\, KM Dance Project&nbsp\;<em>&lsquo\;Raw Fruit&rsquo\;</em>&nbsp\;\, 7:30 p.m.\, Watson Theater\; $15 students/seniors/livestream\, $30 General Admission</strong><br />\n<em>Raw Fruit</em>&nbsp\;is a multidisciplinary work that is a collection of stories that reveal the essence of ancestral values which have been woven into the cultural fabric of Black folks&rsquo\; lives.&nbsp\;<em>Raw Fruit</em>&nbsp\;is steeped in New Orleans culture and layered with visceral movement created from the female lens of the African American experience in the South. From crawfish boils to second lines\, living room altars to junior daughters\, and bread pudding to pecan pralines\, these experiences\, rituals\, and ancestral contributions have created a web of lineage connecting present experiences with customs rooted in the past.</p>\n\n<p><em>This performance and residency is funded in part by a grant from South Arts in partnership with the National Endowment for the Arts.</em></p>\n
LOCATION:Watson Theater
UID:e.2045.3028
SEQUENCE:3
DTSTAMP:20260425T030341Z
URL:https://www.hartsvillechamber.org/events/details/km-dance-project-raw-fruit-3028
END:VEVENT

END:VCALENDAR
