BEGIN:VCALENDAR
VERSION:2.0
PRODID:-//ChamberMaster//Event Calendar 2.0//EN
METHOD:PUBLISH
X-PUBLISHED-TTL:P3D
REFRESH-INTERVAL:P3D
CALSCALE:GREGORIAN
BEGIN:VEVENT
DTSTART;VALUE=DATE:20240416
DTEND;VALUE=DATE:20240522
TRANSP:TRANSPARENT
X-MICROSOFT-CDO-ALLDAYEVENT:TRUE
SUMMARY:KOSHA Life Coaching with Jamie Martell
DESCRIPTION:This is a six-week group program that consists of weekly sessions on Tuesdays at 5:30pm\, a private online group\, homework assignments\, and required readings. At the end of the program\, you will have a follow-up individual life coaching session to review all that you learned and uncovered\, and how to incorporate this information into your everyday life.
X-ALT-DESC;FMTTYPE=text/html:<span style="background-color:rgb(255\, 255\, 255)\; color:rgba(0\, 0\, 0\, 0.8)\; font-family:raleway\; font-size:16px">This is a six-week group program that consists of weekly sessions on Tuesdays at 5:30pm\, a private online group\, homework assignments\, and required readings. At the end of the program\, you will have a follow-up individual life coaching session to review all that you learned and uncovered\, and how to incorporate this information into your everyday life.&nbsp\;</span>
LOCATION:Black Creek Arts
UID:e.2045.2720
SEQUENCE:3
DTSTAMP:20260425T142314Z
URL:https://www.hartsvillechamber.org/events/details/kosha-life-coaching-with-jamie-martell-2720
END:VEVENT

END:VCALENDAR
