BEGIN:VCALENDAR
VERSION:2.0
PRODID:-//ChamberMaster//Event Calendar 2.0//EN
METHOD:PUBLISH
X-PUBLISHED-TTL:P3D
REFRESH-INTERVAL:P3D
CALSCALE:GREGORIAN
BEGIN:VEVENT
DTSTART:20241108T220000Z
DTEND:20241109T170000Z
X-MICROSOFT-CDO-ALLDAYEVENT:FALSE
SUMMARY:Lakeside Learning Retreat: Holiday Wellness
DESCRIPTION:Join us for self-care\, connection\, and inspired learning in a cozy retreat setting overlooking Prestwood Lake. Marty Ingram\, ND (naturopathic doctor) and Minnette Lusk (fitness professional) will set you up with strategies and support so you can enjoy this wonderful time of year without the overwhelm and guilt that often accompanies all the festivities!
X-ALT-DESC;FMTTYPE=text/html:<span style="color:rgb(8\, 8\, 9)\; font-family:segoe ui historic\,segoe ui\,helvetica\,arial\,sans-serif\; font-size:15px">Join us for self-care\, connection\, and inspired learning in a cozy retreat setting overlooking Prestwood Lake. Marty Ingram\, ND (naturopathic doctor) and Minnette Lusk (fitness professional) will set you up with strategies and support so you can enjoy this wonderful time of year without the overwhelm and guilt that often accompanies all the festivities!</span>
LOCATION:
UID:e.2045.3073
SEQUENCE:3
DTSTAMP:20260425T031819Z
URL:https://www.hartsvillechamber.org/events/details/lakeside-learning-retreat-holiday-wellness-3073
END:VEVENT

END:VCALENDAR
