BEGIN:VCALENDAR
VERSION:2.0
PRODID:-//ChamberMaster//Event Calendar 2.0//EN
METHOD:PUBLISH
X-PUBLISHED-TTL:P3D
REFRESH-INTERVAL:P3D
CALSCALE:GREGORIAN
BEGIN:VEVENT
DTSTART:20260113T223000Z
DTEND:20260113T233000Z
X-MICROSOFT-CDO-ALLDAYEVENT:FALSE
SUMMARY:Learn to Design with Canva
DESCRIPTION:Learn how to utilize Canva's designing tools to create professional marketing products\, promotional items\, and social media content through this free\, hands-on workshop offered by the FMU Kelley Center. Registration is free and limited to 15 individuals per session.
X-ALT-DESC;FMTTYPE=text/html:<span style="font-family:aptos\,sans-serif"><span style="font-size:12.0pt">Learn how to utilize Canva&rsquo\;s designing tools to create professional marketing products\, promotional items\, and social media content through this free\, hands-on workshop offered by the FMU Kelley Center. Registration is free and limited to 15 individuals per session.&nbsp\;</span></span>
LOCATION:FMU Kelley Center 142 N Dargan Street Florence\, South Carolina
UID:e.2045.3503
SEQUENCE:3
DTSTAMP:20260425T121632Z
URL:https://www.hartsvillechamber.org/events/details/learn-to-design-with-canva-3503
END:VEVENT

END:VCALENDAR
