BEGIN:VCALENDAR
VERSION:2.0
PRODID:-//ChamberMaster//Event Calendar 2.0//EN
METHOD:PUBLISH
X-PUBLISHED-TTL:P3D
REFRESH-INTERVAL:P3D
CALSCALE:GREGORIAN
BEGIN:VEVENT
DTSTART:20240404T233000Z
DTEND:20240407T013000Z
X-MICROSOFT-CDO-ALLDAYEVENT:FALSE
SUMMARY:Legally Blonde
DESCRIPTION:Legally Blonde\, Music and Lyrics by Nell Benjamin and Laurence O'Keefe\, Book by Heather Hach   April 4-6\, 7:30 p.m. at the Watson Theatre\; $10 students/seniors\, $20 General Admission\n\nA musical comedy based off of the hit 2001 film of the same name. It follows the adventures of Elle Woods from sorority to Harvard Law school as she attempts to win back her college boyfriend and finds a greater purpose in the law. Legally Blonde was nominated for 7 Tony Awards and 10 Drama Desk Awards and won the Laurence Olivier Award for Best New Musical for its West End production. Directed by Brian Guidry LeTraunik
X-ALT-DESC;FMTTYPE=text/html:<p><strong>Legally Blonde\, Music and Lyrics by Nell Benjamin and Laurence O&rsquo\;Keefe\, Book by Heather Hach &ndash\; April 4-6\, 7:30 p.m. at the Watson Theatre\; $10 students/seniors\, $20 General Admission</strong></p>\n\n<p>A musical comedy based off of the hit 2001 film of the same name. It follows the adventures of Elle Woods from sorority to Harvard Law school as she attempts to win back her college boyfriend and finds a greater purpose in the law. Legally Blonde was nominated for 7 Tony Awards and 10 Drama Desk Awards and won the Laurence Olivier Award for Best New Musical for its West End production. Directed by Brian Guidry LeTraunik</p>\n
LOCATION:Watson Theater
UID:e.2045.2537
SEQUENCE:3
DTSTAMP:20260425T155607Z
URL:https://www.hartsvillechamber.org/events/details/legally-blonde-2537
END:VEVENT

END:VCALENDAR
