BEGIN:VCALENDAR
VERSION:2.0
PRODID:-//ChamberMaster//Event Calendar 2.0//EN
METHOD:PUBLISH
X-PUBLISHED-TTL:P3D
REFRESH-INTERVAL:P3D
CALSCALE:GREGORIAN
BEGIN:VEVENT
DTSTART:20240415T153000Z
DTEND:20240415T170000Z
X-MICROSOFT-CDO-ALLDAYEVENT:FALSE
SUMMARY:Lunch Bunch with K. Hope Creative
DESCRIPTION:Come hear from Kim Bowman from K. Hope Creative on ways to make your business stand out from a crowd!\n\n \n\nK. Hope Creative- You can count on us for branding\, marketing\, content\, and campaign excellence. From retail and hospitality to non-profits and municipalities\, we guide your strategy and support your goals\, steering your brand style and confidence in the best and brightest direction.\n\n \n\nRegister for this FREE luncheon for chamber members\, $15 for nonmembers. Limited registrations\, email Debbie to register- admin@hartsvillechamber.org
X-ALT-DESC;FMTTYPE=text/html:<strong>Come hear from Kim Bowman from K. Hope Creative on ways to make your business stand out from a crowd!</strong><br />\n&nbsp\;<br />\n<strong>K. Hope Creative- You can count on us for branding\, marketing\, content\, and campaign excellence. From retail and hospitality to non-profits and municipalities\, we guide your strategy and support your goals\, steering your brand style and confidence in the best and brightest direction.</strong><br />\n&nbsp\;<br />\n<strong>Register for this FREE luncheon for chamber members\, $15 for nonmembers. Limited registrations\, email Debbie to register-&nbsp\;<a href="mailto:admin@hartsvillechamber.org" style="color:blue\;" title="mailto:admin@hartsvillechamber.org"><span style="color:black\;">admin@hartsvillechamber.org</span></a></strong><br />\n&nbsp\;<br />\n&nbsp\;
LOCATION:Hartsville Chamber of Commerce 214 North Fifth Street Hartsville SC 29550
UID:e.2045.2716
SEQUENCE:3
DTSTAMP:20260425T155607Z
URL:https://www.hartsvillechamber.org/events/details/lunch-bunch-with-k-hope-creative-2716
END:VEVENT

END:VCALENDAR
