BEGIN:VCALENDAR
VERSION:2.0
PRODID:-//ChamberMaster//Event Calendar 2.0//EN
METHOD:PUBLISH
X-PUBLISHED-TTL:P3D
REFRESH-INTERVAL:P3D
CALSCALE:GREGORIAN
BEGIN:VEVENT
DTSTART:20260212T140000Z
DTEND:20260212T210000Z
X-MICROSOFT-CDO-ALLDAYEVENT:FALSE
SUMMARY:McLeod Occupational Health Forum
DESCRIPTION:Explore practical strategies and expert insights on critical occupational health issues\, including workers'\n\ncompensation\, onsite clinics\, OSHA compliance\, and legal accommodations under the Fair Labor Standards Act and\n\nAmericans with Disabilities Act. Take advantage of this opportunity to stay ahead of industry trends while enhancing workplace safety and promoting employee well-being!
X-ALT-DESC;FMTTYPE=text/html:Explore practical strategies and expert insights on critical&nbsp\;occupational health issues\, including workers&#39\;<br />\ncompensation\, onsite clinics\, OSHA compliance\, and legal&nbsp\;accommodations under the Fair Labor Standards Act and<br />\nAmericans with Disabilities Act.&nbsp\;Take advantage of this opportunity to stay ahead of&nbsp\;industry trends while enhancing workplace safety and&nbsp\;promoting employee well-being!
LOCATION:Central Carolina Technical College 506 N. Guignard Drive Sumter\, SC 29150
UID:e.2045.3505
SEQUENCE:3
DTSTAMP:20260425T172708Z
URL:https://www.hartsvillechamber.org/events/details/mcleod-occupational-health-forum-3505
END:VEVENT

END:VCALENDAR
