BEGIN:VCALENDAR
VERSION:2.0
PRODID:-//ChamberMaster//Event Calendar 2.0//EN
METHOD:PUBLISH
X-PUBLISHED-TTL:P3D
REFRESH-INTERVAL:P3D
CALSCALE:GREGORIAN
BEGIN:VEVENT
DTSTART:20240406T140000Z
DTEND:20240407T000000Z
X-MICROSOFT-CDO-ALLDAYEVENT:FALSE
SUMMARY:Mind & Body Spiritual Awakening Expo 2024
DESCRIPTION:Join us for an enlightening and transformative experience at the Mind & Body Spiritual Awakening Expo 2024! This in-person event.\n\n\n\nImmerse yourself in a day filled with spiritual exploration\, self-discovery\, and holistic wellness. Our expo features a diverse range of interactive sessions led by renowned spiritual leaders\, healers\, and experts.\n\nDiscover the power of mindfulness\, meditation\, and energy healing. Explore different spiritual practices and gain insights into ancient wisdom traditions. Connect with like-minded individuals and expand your spiritual community.\n\nEngage in enlightening conversations\, browse through unique vendors offering spiritual products & services\, and enjoy celebrating the mind\, body\, and spirit connection. Don't miss this opportunity to nourish your soul\, awaken your spirit\, and embrace a deeper understanding of yourself and the world around you.
X-ALT-DESC;FMTTYPE=text/html:<p>Join us for an enlightening and transformative experience at the <strong>Mind &amp\; Body Spiritual Awakening Expo 2024</strong>! This in-person event.<br />\n<br />\nImmerse yourself in a day filled with spiritual exploration\, self-discovery\, and holistic wellness. Our expo features a diverse range of interactive sessions led by renowned spiritual leaders\, healers\, and experts.</p>\n\n<p>Discover the power of mindfulness\, meditation\, and energy healing. Explore different spiritual practices and gain insights into ancient wisdom traditions. Connect with like-minded individuals and expand your spiritual community.</p>\n\n<p>Engage in enlightening conversations\, browse through unique vendors offering spiritual products &amp\; services\, and enjoy celebrating the mind\, body\, and spirit connection.&nbsp\;<span style="font-family:calibri\,sans-serif\; font-size:11pt">Don&#39\;t miss this opportunity to nourish your soul\, awaken your spirit\, and embrace a deeper understanding of yourself and the world around you.</span></p>\n\n<p>&nbsp\;</p>\n
LOCATION:Hampton Inn & Suites 203 East Carolina Avenue Hartsville\, SC 29550
UID:e.2045.2679
SEQUENCE:3
DTSTAMP:20260425T155940Z
URL:https://www.hartsvillechamber.org/events/details/mind-body-spiritual-awakening-expo-2024-2679
END:VEVENT

END:VCALENDAR
