BEGIN:VCALENDAR
VERSION:2.0
PRODID:-//ChamberMaster//Event Calendar 2.0//EN
METHOD:PUBLISH
X-PUBLISHED-TTL:P3D
REFRESH-INTERVAL:P3D
CALSCALE:GREGORIAN
BEGIN:VEVENT
DTSTART;VALUE=DATE:20250426
DTEND;VALUE=DATE:20250427
TRANSP:TRANSPARENT
X-MICROSOFT-CDO-ALLDAYEVENT:TRUE
SUMMARY:Mind & Body Spiritual Awakening Expo 2025
DESCRIPTION:Join us for a day of mindless\, spirituality & personal growth. Connect with like-minded individuals\, explore holistic practices & discover new ways to nurture your mind\, body & spirit.
X-ALT-DESC;FMTTYPE=text/html:Join us for a day of mindless\, spirituality &amp\; personal growth. Connect with like-minded individuals\, explore holistic practices &amp\; discover new ways to nurture your mind\, body &amp\; spirit.&nbsp\;
LOCATION:Hampton Inn & Suites Hartsville 203 East Carolina Avenue Hartsville\, SC 29550
UID:e.2045.3218
SEQUENCE:3
DTSTAMP:20260424T185001Z
URL:https://www.hartsvillechamber.org/events/details/mind-body-spiritual-awakening-expo-2025-3218
END:VEVENT

END:VCALENDAR
