BEGIN:VCALENDAR
VERSION:2.0
PRODID:-//ChamberMaster//Event Calendar 2.0//EN
METHOD:PUBLISH
X-PUBLISHED-TTL:P3D
REFRESH-INTERVAL:P3D
CALSCALE:GREGORIAN
BEGIN:VEVENT
DTSTART;VALUE=DATE:20250727
DTEND;VALUE=DATE:20250801
TRANSP:TRANSPARENT
X-MICROSOFT-CDO-ALLDAYEVENT:TRUE
SUMMARY:MOVE Company Boot Camp and Auditions
DESCRIPTION:2025-2026 MOVE BOOT CAMP + COMPANY AUDITIONS!\n\n\n\nDo you dream of joining our incredible MOVE Company Family? This is your moment to JUMP! \n\n\n\nJULY 27 31\, 2025\n\n	3 Levels: Advanced Beginner | Intermediate | Advanced\n	Ages 5 & Up\n	All Area Dancers Welcome\n	Award-winning instructors and guest artist!\n	Register through the MOVE Parent Portal at www.movedanceacademy.com\n	Questions? Email us at: movedanceacademy@yahoo.com\n\n\n\nIt's TIME to MOVE!
X-ALT-DESC;FMTTYPE=text/html:2025-2026 MOVE BOOT CAMP + COMPANY AUDITIONS!<br />\n<br />\nDo you dream of joining our incredible MOVE Company Family? This is your moment to JUMP!&nbsp\;<br />\n<br />\nJULY 27&ndash\;31\, 2025\n<ul>\n	<li>3 Levels: Advanced Beginner | Intermediate | Advanced</li>\n	<li>Ages 5 &amp\; Up</li>\n	<li>All Area Dancers Welcome</li>\n	<li>Award-winning instructors and guest artist!</li>\n	<li>Register through the MOVE Parent Portal at www.movedanceacademy.com</li>\n	<li>Questions? Email us at: movedanceacademy@yahoo.com</li>\n</ul>\n<br />\nIt&#39\;s TIME to MOVE!
LOCATION:129 E. College Avenue\, Hartsville\, SC 29550
UID:e.2045.3377
SEQUENCE:3
DTSTAMP:20260425T032454Z
URL:https://www.hartsvillechamber.org/events/details/move-company-boot-camp-and-auditions-3377
END:VEVENT

END:VCALENDAR
