BEGIN:VCALENDAR
VERSION:2.0
PRODID:-//ChamberMaster//Event Calendar 2.0//EN
METHOD:PUBLISH
X-PUBLISHED-TTL:P3D
REFRESH-INTERVAL:P3D
CALSCALE:GREGORIAN
BEGIN:VEVENT
DTSTART:20250128T170000Z
DTEND:20250228T170000Z
X-MICROSOFT-CDO-ALLDAYEVENT:FALSE
SUMMARY:New Campground | Standing Pines Open House & Tour
DESCRIPTION:Standing Pines Open House Tours - January & February 2025\n\n\n\nExperience "wildly comfortable camping" at the Pee Dee's newest upscale RV resort and campground! Join us for a guided tour of Standing Pines\, where modern amenities meet natural beauty across our 80+ wooded acres.\n\n\n\nTour our Welcome Center featuring a camp store\, media lounge\, and guest facilities. Explore our spacious RV sites\, cozy cabins\, and family-friendly amenities including two dog parks and gaga ball. Learn about our unique Forest Friends program that brings outdoor adventures to life for young campers\, including a gem mining opportunity.\n\n\n\nPerfect for:\n\n- Families considering camping adventures\n\n- RV owners seeking a new destination\n\n- Local residents curious about Standing Pines\n\n- Anyone interested in outdoor hospitality\n\n\n\nTours available during regular business hours:\n\nMonday-Saturday: 10:00 AM - 4:00 PM\n\nSunday: 1:00 PM - 4:00 PM\n\n\n\nLocation: 2800 Bethlehem Road\, Hartsville\, SC\n\n\n\nNo reservation required for tours. For large groups or special arrangements\, please call 843-287-6169.\n\n\n\nDiscover why families are already making memories together at Standing Pines! Follow our journey on Facebook @CampStandingPines
X-ALT-DESC;FMTTYPE=text/html:<strong>Standing Pines Open House Tours - January &amp\; February 2025</strong><br />\n<br />\nExperience &quot\;wildly comfortable camping&quot\; at the Pee Dee&#39\;s newest upscale RV resort and campground! Join us for a guided tour of Standing Pines\, where modern amenities meet natural beauty across our 80+ wooded acres.<br />\n<br />\nTour our Welcome Center featuring a camp store\, media lounge\, and guest facilities. Explore our spacious RV sites\, cozy cabins\, and family-friendly amenities including two dog parks and gaga ball. Learn about our unique Forest Friends program that brings outdoor adventures to life for young campers\, including a gem mining opportunity.<br />\n<br />\nPerfect for:<br />\n- Families considering camping adventures<br />\n- RV owners seeking a new destination<br />\n- Local residents curious about Standing Pines<br />\n- Anyone interested in outdoor hospitality<br />\n<br />\nTours available during regular business hours:<br />\nMonday-Saturday: 10:00 AM - 4:00 PM<br />\nSunday: 1:00 PM - 4:00 PM<br />\n<br />\nLocation: 2800 Bethlehem Road\, Hartsville\, SC<br />\n<br />\nNo reservation required for tours. For large groups or special arrangements\, please call 843-287-6169.<br />\n<br />\nDiscover why families are already making memories together at Standing Pines! Follow our journey on Facebook @CampStandingPines
LOCATION:
UID:e.2045.3251
SEQUENCE:3
DTSTAMP:20260424T221100Z
URL:https://www.hartsvillechamber.org/events/details/new-campground-standing-pines-open-house-tour-3251
END:VEVENT

END:VCALENDAR
