BEGIN:VCALENDAR
VERSION:2.0
PRODID:-//ChamberMaster//Event Calendar 2.0//EN
METHOD:PUBLISH
X-PUBLISHED-TTL:P3D
REFRESH-INTERVAL:P3D
CALSCALE:GREGORIAN
BEGIN:VEVENT
DTSTART:20250103T223000Z
DTEND:20250105T230000Z
X-MICROSOFT-CDO-ALLDAYEVENT:FALSE
SUMMARY:New Year Gathering
DESCRIPTION:9th Annual NEW YEAR GATHERING: "Betwixt and Between"\n\nJanuary 3th-5th\, 2025 - Hosted at Black Creek Arts\n\nJoin us for a soul-nourishing\, yoga-inspired community event designed to set powerful intentions for the New Year! The New Year Gathering brings together yogis\, healers\, artisans\, and spiritually minded individuals to learn\, grow\, and support one another as we move into 2025. Together\, we'll explore tools and techniques to strengthen our Will and Power for the year ahead.\n\nInspired by Richard Rohr's reflection on liminal space "that graced time when we are not certain or in control\, when something genuinely new can happen" we will embrace the powerful energy of being 'betwixt and between' as we transition into the New Year. Come ready to connect\, grow\, and create magic in community!\n\n"It is when we are betwixt and between\, have left one room but not yet entered the next room\, any hiatus between stages of life\, faith\, jobs\, loves\, or relationships. It is that graced time when we are not certain or in control\, when something genuinely new can happen   it is the ultimate teachable space." -Richard Rohr
X-ALT-DESC;FMTTYPE=text/html:<h3 style="color:rgb(34\, 34\, 34)\; font-style:italic"><strong>9th Annual NEW YEAR GATHERING: &ldquo\;Betwixt and Between&rdquo\;</strong></h3>\n\n<h3 style="color:rgb(34\, 34\, 34)\; font-style:italic"><strong>January 3th-5th\, 2025 - Hosted at Black Creek Arts</strong></h3>\n\n<p>Join us for a soul-nourishing\, yoga-inspired community event designed to set powerful intentions for the New Year! The New Year Gathering brings together yogis\, healers\, artisans\, and spiritually minded individuals to learn\, grow\, and support one another as we move into 2025. Together\, we&rsquo\;ll explore tools and techniques to strengthen our Will and Power for the year ahead.</p>\n\n<p>Inspired by Richard Rohr&rsquo\;s reflection on liminal space&mdash\;&ldquo\;<em>that graced time when we are not certain or in control\, when something genuinely new can happen</em>&rdquo\;&mdash\;we will embrace the powerful energy of being &lsquo\;betwixt and between&rsquo\; as we transition into the New Year. Come ready to connect\, grow\, and create magic in community!</p>\n\n<p><em>&ldquo\;It is when we are betwixt and between\, have left one room but not yet entered the next room\, any hiatus between stages of life\, faith\, jobs\, loves\, or relationships. It is that graced time when we are not certain or in control\, when something genuinely new can happen &hellip\; it is the ultimate teachable space.&rdquo\; -Richard Rohr</em></p>\n
LOCATION:Black Creek Arts 116 W. College Ave
UID:e.2045.3080
SEQUENCE:3
DTSTAMP:20260425T000048Z
URL:https://www.hartsvillechamber.org/events/details/new-year-gathering-3080
END:VEVENT

END:VCALENDAR
