BEGIN:VCALENDAR
VERSION:2.0
PRODID:-//ChamberMaster//Event Calendar 2.0//EN
METHOD:PUBLISH
X-PUBLISHED-TTL:P3D
REFRESH-INTERVAL:P3D
CALSCALE:GREGORIAN
BEGIN:VEVENT
DTSTART:20250101T030000Z
DTEND:20250101T070000Z
X-MICROSOFT-CDO-ALLDAYEVENT:FALSE
SUMMARY:New Year's Eve Dance Fundraiser 2024
DESCRIPTION:SAVE A DATE\n\nTicket(s) purchased is tax deductible donation\, "The Butler Heritage Foundation\, Inc. is a non-profit organization\, tax exempt under section 501(c)(3) of the Internal Revenue Code.\n\n\n\nThe New Year's Eve bash is a fundraiser so join us for an enjoyable evening bringing 2025!\n\nReserved Table (8 seats) can be reserved in advance\, for details contact Kenzie Pete DeLaine at 504-239-2576.
X-ALT-DESC;FMTTYPE=text/html:<div>SAVE A DATE</div>\n\n<div>Ticket(s) purchased is tax deductible donation\, &quot\;The Butler Heritage Foundation\, Inc. is a non-profit organization\, tax exempt under section 501(c)(3) of the Internal Revenue Code.<br />\n<br />\nThe New Year&#39\;s Eve bash is a fundraiser so join us for an enjoyable evening bringing 2025!<br />\nReserved Table (8 seats) can be reserved in advance\, for details contact&nbsp\;Kenzie Pete DeLaine&nbsp\;at 504-239-2576.</div>\n\n<div>&nbsp\;</div>\n
LOCATION:BUTLER HERITAGE FOUNDATION GYM 1103 SOUTH SIXTH STREET HARTSVILLE\, SC 29550
UID:e.2045.3183
SEQUENCE:3
DTSTAMP:20260425T012015Z
URL:https://www.hartsvillechamber.org/events/details/new-year-s-eve-dance-fundraiser-2024-3183
END:VEVENT

END:VCALENDAR
