BEGIN:VCALENDAR
VERSION:2.0
PRODID:-//ChamberMaster//Event Calendar 2.0//EN
METHOD:PUBLISH
X-PUBLISHED-TTL:P3D
REFRESH-INTERVAL:P3D
CALSCALE:GREGORIAN
BEGIN:VEVENT
DTSTART:20241222T213000Z
DTEND:20241223T000000Z
X-MICROSOFT-CDO-ALLDAYEVENT:FALSE
SUMMARY:One Church Community Candlelight Service
DESCRIPTION:One Church Community Candlelight Service - Save the Date! Sunday Evening\, December 22nd at Coker University Watson Theater. Two services - 4:30 & 6:00
X-ALT-DESC;FMTTYPE=text/html:One Church Community Candlelight Service - Save the Date! Sunday Evening\, December 22nd at Coker University Watson Theater. Two services - 4:30 &amp\; 6:00
LOCATION:Coker University Watson Theater
UID:e.2045.3185
SEQUENCE:3
DTSTAMP:20260425T030005Z
URL:https://www.hartsvillechamber.org/events/details/one-church-community-candlelight-service-3185
END:VEVENT

END:VCALENDAR
