BEGIN:VCALENDAR
VERSION:2.0
PRODID:-//ChamberMaster//Event Calendar 2.0//EN
METHOD:PUBLISH
X-PUBLISHED-TTL:P3D
REFRESH-INTERVAL:P3D
CALSCALE:GREGORIAN
BEGIN:VEVENT
DTSTART;VALUE=DATE:20260122
DTEND;VALUE=DATE:20260123
TRANSP:TRANSPARENT
X-MICROSOFT-CDO-ALLDAYEVENT:TRUE
SUMMARY:Open House
DESCRIPTION:You're invited to our Open House! Come tour our beautiful senior living community that offers assisted living and memory care\, meet our friendly team\, and see what makes life here so special. Enjoy light refreshments\, guided tours and time to ask questions-no pressure\, just information. \n\n\n\nWe would love to welcome you!
X-ALT-DESC;FMTTYPE=text/html:You&#39\;re invited to our Open House! Come tour our beautiful senior living community that offers assisted living and memory care\, meet our friendly team\, and see what makes life here so special. Enjoy light refreshments\, guided tours and time to ask questions-no pressure\, just information.&nbsp\;<br />\n<br />\nWe would love to welcome you!<br />\n&nbsp\;
LOCATION:1340 Carolina Bay Blvd Hartsville\, SC
UID:e.2045.3506
SEQUENCE:3
DTSTAMP:20260425T135600Z
URL:https://www.hartsvillechamber.org/events/details/open-house-01-22-2026-3506
END:VEVENT

END:VCALENDAR
