BEGIN:VCALENDAR
VERSION:2.0
PRODID:-//ChamberMaster//Event Calendar 2.0//EN
METHOD:PUBLISH
X-PUBLISHED-TTL:P3D
REFRESH-INTERVAL:P3D
CALSCALE:GREGORIAN
BEGIN:VEVENT
DTSTART:20251122T190000Z
DTEND:20251122T200000Z
X-MICROSOFT-CDO-ALLDAYEVENT:FALSE
SUMMARY:Opera Workshop Performance
DESCRIPTION:November 22\, 2 p.m.\, Drengaelen House\n\nJoin Coker's Opera Workshop as they present scenes from opera favorites! Led by Dr. Elizabeth Holmes and Dr. Graham Wood\, the scenes are staged in the intimate Drengaelen House. Plan to stay afterward for themed refreshments and mingle with the cast. Free.
X-ALT-DESC;FMTTYPE=text/html:<p><strong>November 22\, 2 p.m.\, Drengaelen House</strong></p>\n\n<p><span style="background-color:transparent\; color:rgb(0\, 0\, 0)\; font-family:helvetica neue\,sans-serif\; font-size:10pt">Join Coker&rsquo\;s Opera Workshop as they present scenes from opera favorites! Led by Dr. Elizabeth Holmes and Dr. Graham Wood\, the scenes are staged in the intimate Drengaelen House. Plan to stay afterward for themed refreshments and mingle with the cast. Free.</span></p>\n\n<div>&nbsp\;</div>\n
LOCATION:Drengaelen House
UID:e.2045.3432
SEQUENCE:3
DTSTAMP:20260425T104031Z
URL:https://www.hartsvillechamber.org/events/details/opera-workshop-performance-11-22-2025-3432
END:VEVENT

END:VCALENDAR
