BEGIN:VCALENDAR
VERSION:2.0
PRODID:-//ChamberMaster//Event Calendar 2.0//EN
METHOD:PUBLISH
X-PUBLISHED-TTL:P3D
REFRESH-INTERVAL:P3D
CALSCALE:GREGORIAN
BEGIN:VEVENT
DTSTART:20241123T193000Z
DTEND:20241123T210000Z
X-MICROSOFT-CDO-ALLDAYEVENT:FALSE
SUMMARY:Opera Workshop Scenes Performance
DESCRIPTION:Opera Workshop Scenes Performance   November 23\, 2:30 p.m.\, Drengaelen House\; $10 students/seniors\, $20 General Admission\n\nJoin Coker's Opera Workshop as they present scenes from opera favorites! Enjoy their fabulous performances in our intimate venue\, Drengaelen House. Plan to stay afterward for themed refreshments and to mingle with the cast.
X-ALT-DESC;FMTTYPE=text/html:<p><strong>Opera Workshop Scenes Performance &ndash\; November 23\, 2:30 p.m.\, Drengaelen House\; $10 students/seniors\, $20 General Admission</strong><br />\nJoin Coker&rsquo\;s Opera Workshop as they present scenes from opera favorites! Enjoy their fabulous performances in our intimate venue\, Drengaelen House. Plan to stay afterward for themed refreshments and to mingle with the cast.</p>\n
LOCATION:Drengaelen House
UID:e.2045.3030
SEQUENCE:3
DTSTAMP:20260425T030348Z
URL:https://www.hartsvillechamber.org/events/details/opera-workshop-scenes-performance-11-23-2024-3030
END:VEVENT

END:VCALENDAR
