BEGIN:VCALENDAR
VERSION:2.0
PRODID:-//ChamberMaster//Event Calendar 2.0//EN
METHOD:PUBLISH
X-PUBLISHED-TTL:P3D
REFRESH-INTERVAL:P3D
CALSCALE:GREGORIAN
BEGIN:VEVENT
DTSTART:20250125T140000Z
DTEND:20250125T170000Z
X-MICROSOFT-CDO-ALLDAYEVENT:FALSE
SUMMARY:Our Sacred Space Yoga's OPEN HOUSE
DESCRIPTION:You're Invited to Our Sacred Space Yoga's Free Open House!\n\nDiscover Your Practice\, Connect with Community\n\nJoin us for a day of exploration\, movement\, and connection as we open our doors to welcome you! This is the perfect opportunity to:\n\n\n	\n	Experience our beautiful studio.\n	\n	\n	Meet our incredible teachers.\n	\n	\n	Sample a variety of yoga classes designed for all levels.\n	\n	\n	Learn about our offerings\, memberships\, and upcoming events.\n	\n\n\nWhether you're new to yoga or a seasoned practitioner\, there's something for everyone. Come as you are\, bring a friend\, and step into a space of inspiration\, growth\, and community!\n\nEvent Details\n\nDate: January 25th\, 2025\n\nTime: 9:00am - 12:00pm\n\nLocation: Our Sacred Space Yoga - 2nd floor inside Black Creek Arts\n\nNo registration needed just drop in and enjoy!\n\nWe can't wait to meet you and share the magic of yoga. See you there!\n\nOpen House Class Schedule:\n\n9:30 AM   9:55 AM: Sacred Flow with Jamie Martell\n\nA dynamic\, soulful sequence blending movement\, breath\, and intention.\n\n10:10 AM   10:35 AM: Yoga Basics with Jamie Martell\n\nBuild a strong foundation with this beginner-friendly class focusing on alignment and breath.\n\n10:50 AM   11:15 AM: Deep Stretch with Kimberly Rose\n\nEase tension and improve flexibility with long\, targeted stretches.\n\n11:30 AM   11:55 AM: Yin Yoga with June Avant\n\nA calming practice featuring deep\, passive stretches to promote relaxation and balance.\n\nJoin us for one class or all no registration required!\n\nArrive a few minutes early to get settled and enjoy your time with us
X-ALT-DESC;FMTTYPE=text/html:<p>You&rsquo\;re Invited to Our Sacred Space Yoga&rsquo\;s Free Open House!<br />\nDiscover Your Practice\, Connect with Community</p>\n\n<p>Join us for a day of exploration\, movement\, and connection as we open our doors to welcome you! This is the perfect opportunity to:</p>\n\n<ul>\n	<li>\n	<p>Experience our beautiful studio.</p>\n	</li>\n	<li>\n	<p>Meet our incredible teachers.</p>\n	</li>\n	<li>\n	<p>Sample a variety of yoga classes designed for all levels.</p>\n	</li>\n	<li>\n	<p>Learn about our offerings\, memberships\, and upcoming events.</p>\n	</li>\n</ul>\n\n<p>Whether you&#39\;re new to yoga or a seasoned practitioner\, there&rsquo\;s something for everyone. Come as you are\, bring a friend\, and step into a space of inspiration\, growth\, and community!</p>\n\n<p>Event Details<br />\nDate: January 25th\, 2025<br />\nTime: 9:00am - 12:00pm<br />\nLocation: Our Sacred Space Yoga - 2nd floor inside Black Creek Arts</p>\n\n<p>No registration needed&mdash\;just drop in and enjoy!</p>\n\n<p>We can&rsquo\;t wait to meet you and share the magic of yoga. See you there!</p>\n\n<p>Open House Class Schedule:<br />\n9:30 AM &ndash\; 9:55 AM: Sacred Flow with Jamie Martell<br />\nA dynamic\, soulful sequence blending movement\, breath\, and intention.</p>\n\n<p>10:10 AM &ndash\; 10:35 AM: Yoga Basics with Jamie Martell<br />\nBuild a strong foundation with this beginner-friendly class focusing on alignment and breath.</p>\n\n<p>10:50 AM &ndash\; 11:15 AM: Deep Stretch with Kimberly Rose<br />\nEase tension and improve flexibility with long\, targeted stretches.</p>\n\n<p>11:30 AM &ndash\; 11:55 AM: Yin Yoga with June Avant<br />\nA calming practice featuring deep\, passive stretches to promote relaxation and balance.</p>\n\n<p>Join us for one class or all&mdash\;no registration required!<br />\nArrive a few minutes early to get settled and enjoy your time with us</p>\n
LOCATION:Our Sacred Space Yoga 2nd floor of Black Creek Arts 116 W College Ave
UID:e.2045.3202
SEQUENCE:3
DTSTAMP:20260425T000406Z
URL:https://www.hartsvillechamber.org/events/details/our-sacred-space-yoga-s-open-house-3202
END:VEVENT

END:VCALENDAR
