BEGIN:VCALENDAR
VERSION:2.0
PRODID:-//ChamberMaster//Event Calendar 2.0//EN
METHOD:PUBLISH
X-PUBLISHED-TTL:P3D
REFRESH-INTERVAL:P3D
CALSCALE:GREGORIAN
BEGIN:VEVENT
DTSTART:20251206T133000Z
DTEND:20251206T153000Z
X-MICROSOFT-CDO-ALLDAYEVENT:FALSE
SUMMARY:Pancakes with Santa - Hartsville High Athletic Department
DESCRIPTION:Red Fox Athletics Annual Pancakes with Santa Breakfast. Come join the Red Foxes as they welcome Santa back to town for a pancake breakfast with our community. Bring the kids to write letters to Santa with our cheerleaders\, dance to music\, play games with the Red Foxes\, take a picture with Santa and enjoy a pancake breakfast! Register now for just $5 per ticket. We also have a donation ticket that we will provide to a child that cannot afford to attend! We cannot wait to celebrate Christmas with our community!!
X-ALT-DESC;FMTTYPE=text/html:Red Fox Athletics Annual Pancakes with Santa Breakfast. Come join the Red Foxes as they welcome Santa back to town for a pancake breakfast with our community. Bring the kids to write letters to Santa with our cheerleaders\, dance to music\, play games with the Red Foxes\, take a picture with Santa and enjoy a pancake breakfast! Register now for just $5 per ticket. We also have a donation ticket that we will provide to a child that cannot afford to attend! We cannot wait to celebrate Christmas with our community!!
LOCATION:Hartsville High School Arena
UID:e.2045.3394
SEQUENCE:3
DTSTAMP:20260425T110612Z
URL:https://www.hartsvillechamber.org/events/details/pancakes-with-santa-hartsville-high-athletic-department-12-06-2025-3394
END:VEVENT

END:VCALENDAR
