BEGIN:VCALENDAR
VERSION:2.0
PRODID:-//ChamberMaster//Event Calendar 2.0//EN
METHOD:PUBLISH
X-PUBLISHED-TTL:P3D
REFRESH-INTERVAL:P3D
CALSCALE:GREGORIAN
BEGIN:VEVENT
DTSTART:20241207T133000Z
DTEND:20241207T153000Z
X-MICROSOFT-CDO-ALLDAYEVENT:FALSE
SUMMARY:Pancakes with Santa - Hartsville High Athletic Department
DESCRIPTION:On Dec. 7\, the Red Fox Athletic Department will host their annual "Pancakes with Santa" from 8:30 - 10:30am. The Hartsville United Way has partnered with the Red Foxes for this year's event that will make it the best one yet! We encourage you to purchase tickets early online. We also provided a second option this year where you can purchase a ticket for someone in need that might not be able to afford the ticket. We will donate those tickets the week of the event. Here is the link to purchase your tickets now: https://gofan.co/event/2141300?schoolId=SC1002
X-ALT-DESC;FMTTYPE=text/html:<div>On Dec. 7\, the Red Fox Athletic Department will host their annual &quot\;Pancakes with Santa&quot\; from 8:30 - 10:30am. The Hartsville United Way has partnered with the Red Foxes for this year&#39\;s event that will make it the best one yet! We encourage you to purchase tickets early online. We also provided a second option this year where you can purchase a ticket for someone in need that might not be able to afford the ticket. We will donate those tickets the week of the event. Here is the link to purchase your tickets now:&nbsp\;<a href="https://gofan.co/event/2141300?schoolId=SC1002" style="color: rgb(17\, 85\, 204)\;">https://gofan.co/event/2141300?schoolId=SC1002</a></div>\n\n<div>&nbsp\;</div>\n
LOCATION:Hartsville High School Arena
UID:e.2045.3180
SEQUENCE:3
DTSTAMP:20260425T013609Z
URL:https://www.hartsvillechamber.org/events/details/pancakes-with-santa-hartsville-high-athletic-department-3180
END:VEVENT

END:VCALENDAR
