BEGIN:VCALENDAR
VERSION:2.0
PRODID:-//ChamberMaster//Event Calendar 2.0//EN
METHOD:PUBLISH
X-PUBLISHED-TTL:P3D
REFRESH-INTERVAL:P3D
CALSCALE:GREGORIAN
BEGIN:VEVENT
DTSTART:20240411T180000Z
DTEND:20240411T220000Z
X-MICROSOFT-CDO-ALLDAYEVENT:FALSE
SUMMARY:Pee Dee Pond Expo
DESCRIPTION:Pee Dee Pond Expo\n\nThursday\, April 11\, 2024\n\n2:00 pm-6:00 pm\n\n\n\nLearn how to manage your pond problems!\n\n\n\nThe Pee Dee Recreational Pond Management Expo is intended to connect pond owners in the Pee Dee region of South Carolina with information\, resources\, and tools to help them better manage their pond for recreational activities. Pond Management vendors will have booths throughout the expo to provide information about their products and services. Educational demonstrations will be offered throughout the day.\n\n\n\nLearn about...\n\n-Fish Management\n\n-Herbicides\n\n-Nuisance Wildlife\n\n-And more!\n\n\n\nTalk to local pond professionals!
X-ALT-DESC;FMTTYPE=text/html:<p><span style="font-size:12px"><span style="font-family:arial\,helvetica\,sans-serif">Pee Dee Pond Expo<br />\nThursday\, April 11\, 2024<br />\n2:00 pm-6:00 pm<br />\n<br />\nLearn how to manage your pond problems!<br />\n<br />\nThe Pee Dee Recreational Pond Management Expo is intended to connect pond owners in the Pee Dee region of South Carolina with information\, resources\, and tools to help them better manage their pond for recreational activities. Pond Management vendors will have booths throughout the expo to provide information about their products and services. Educational demonstrations will be offered throughout the day.<br />\n<br />\nLearn about...<br />\n-Fish Management<br />\n-Herbicides<br />\n-Nuisance Wildlife<br />\n-And more!<br />\n<br />\nTalk to local pond professionals!</span></span></p>\n
LOCATION:Location: Pee Dee REC 2200 Pocket Rd. Florence\, SC 29506
UID:e.2045.2714
SEQUENCE:3
DTSTAMP:20260425T155553Z
URL:https://www.hartsvillechamber.org/events/details/pee-dee-pond-expo-2714
END:VEVENT

END:VCALENDAR
