BEGIN:VCALENDAR
VERSION:2.0
PRODID:-//ChamberMaster//Event Calendar 2.0//EN
METHOD:PUBLISH
X-PUBLISHED-TTL:P3D
REFRESH-INTERVAL:P3D
CALSCALE:GREGORIAN
BEGIN:VEVENT
DTSTART:20240531T150000Z
DTEND:20240531T180000Z
X-MICROSOFT-CDO-ALLDAYEVENT:FALSE
SUMMARY:Pork Bog Fundraiser for WinShape Hartsville
DESCRIPTION:We are having a Pork Bog Fundraiser to support WinShape Hartsville\, a summer camp for 5k-5th grade. Plates are $10 and delivery for 10 or more plates. Call the office at 843-332-8092 to get tickets.
X-ALT-DESC;FMTTYPE=text/html:<div><span dir="auto" style="color:var(--primary-text)\; font-size:0.9375rem">We are having a Pork Bog Fundraiser to support WinShape Hartsville\, a summer camp for 5k-5th grade. Plates are $10 and delivery for 10 or more plates. Call the office at 843-332-8092 to get tickets.</span></div>\n\n<div>\n<div>\n<div>&nbsp\;</div>\n</div>\n</div>\n
LOCATION:2609 Kelleytown Rd Hartsville\, SC Family Life Center Building
UID:e.2045.2742
SEQUENCE:3
DTSTAMP:20260425T142712Z
URL:https://www.hartsvillechamber.org/events/details/pork-bog-fundraiser-for-winshape-hartsville-05-31-2024-2742
END:VEVENT

END:VCALENDAR
