BEGIN:VCALENDAR
VERSION:2.0
PRODID:-//ChamberMaster//Event Calendar 2.0//EN
METHOD:PUBLISH
X-PUBLISHED-TTL:P3D
REFRESH-INTERVAL:P3D
CALSCALE:GREGORIAN
BEGIN:VEVENT
DTSTART:20250417T180000Z
DTEND:20250417T210000Z
X-MICROSOFT-CDO-ALLDAYEVENT:FALSE
SUMMARY:Pottery and Passion
DESCRIPTION:We would like to extend a heartfelt invitation to a special Pottery Day event\, designed for service workers who dedicate their time and effort to supporting victims of sexual assault. This event hosted by Lake City's Olio Studio\, is an opportunity for you to take a break\, unwind\, and connect with others who share the same passion for supporting those in need. Throughout this day\, we'll engage in a therapeutic pottery session aimed at relaxation and creative expression. This will be a chance to slow down\, de-stress\, and enjoy the therapeutic benefits of pottery while connecting with fellow professionals. No prior pottery experience is required just bring yourself and an open mind!
X-ALT-DESC;FMTTYPE=text/html:We would like to extend a heartfelt invitation to a special Pottery Day event\, designed for service workers who dedicate their time and effort to supporting victims of sexual assault. This event hosted by Lake City&#39\;s Olio Studio\, is an opportunity for you to take a break\, unwind\, and connect with others who share the same passion for supporting those in need. Throughout this day\, we&rsquo\;ll engage in a therapeutic pottery session aimed at relaxation and creative expression. This will be a chance to slow down\, de-stress\, and enjoy the therapeutic benefits of pottery while connecting with fellow professionals. No prior pottery experience is required&mdash\;just bring yourself and an open mind!
LOCATION:460 W Carolina Ave - Pee Dee Coalition Hartsville Center
UID:e.2045.3334
SEQUENCE:3
DTSTAMP:20260424T184011Z
URL:https://www.hartsvillechamber.org/events/details/pottery-and-passion-3334
END:VEVENT

END:VCALENDAR
