BEGIN:VCALENDAR
VERSION:2.0
PRODID:-//ChamberMaster//Event Calendar 2.0//EN
METHOD:PUBLISH
X-PUBLISHED-TTL:P3D
REFRESH-INTERVAL:P3D
CALSCALE:GREGORIAN
BEGIN:VEVENT
DTSTART:20250202T160000Z
DTEND:20250202T170000Z
X-MICROSOFT-CDO-ALLDAYEVENT:FALSE
SUMMARY:Prenatal Yoga Class Series with Rachel Guidry LeTraunik
DESCRIPTION:This series will span 10 weeks as we become acquainted with the Features\, Philosophy\, Benefits\, Anatomy\, and many more aspects of the Prenatal Journey. Each week will focus on a different theme as minds and bodies are prepared\, just like the rest of our lives are\, for this monumental life event. PDFs of material will be provided\, supplies brought by students may include anything needed for note taking (notebook\, pens\, highlighters\, etc.).\n\nDATES & TIME:\n\nSundays from 11:00am - 12:00pm\n\n02/02 - About Prenatal Yoga (1)\n\n02/09 - Prenatal Philosophy (2)\n\n02/16 - Common Conditions\n\n& Precautions (3)\n\n02/23 - Anatomy Part 1 of 2 (4)\n\n03/02 - Anatomy Part 2 of 2 (5)\n\n03/09 - Mantras & Mudras (6)\n\n03/16 - Meditation (7)\n\n03/23 - Ayurveda (8)\n\n03/30 - Asana/s & Flow/s (9)\n\n04/06 - Postnatal Yoga (10)\n\nINVESTMENT:\n\n$250\n\nABOUT THE TEACHER: \n\nHello\, my name is Rachel and might I say thanks for your time! Although practicing for years\, the hubby and I have only recently decided to take the plunge and complete our 300hr training. His days are spent as a Professor of Theatre at Coker\, I am homemaker and homeschooling our two boys. The eldest\, Kellan\, is five years old and the younger\, Liam\, is two years old.
X-ALT-DESC;FMTTYPE=text/html:<p>This series will span 10 weeks as we become acquainted with the Features\, Philosophy\, Benefits\, Anatomy\, and many more aspects of the Prenatal Journey. Each week will focus on a different theme as minds and bodies are prepared\, just like the rest of our lives are\, for this monumental life event. PDFs of material will be provided\, supplies brought by students may include anything needed for note taking (notebook\, pens\, highlighters\, etc.).</p>\n\n<p><strong>DATES &amp\; TIME:</strong></p>\n\n<p>Sundays from 11:00am - 12:00pm<br />\n02/02 - About Prenatal Yoga (1)<br />\n02/09 - Prenatal Philosophy (2)<br />\n02/16 - Common Conditions<br />\n&amp\; Precautions (3)<br />\n02/23 - Anatomy Part 1 of 2 (4)<br />\n03/02 - Anatomy Part 2 of 2 (5)<br />\n03/09 - Mantras &amp\; Mudras (6)<br />\n03/16 - Meditation (7)<br />\n03/23 - Ayurveda (8)<br />\n03/30 - Asana/s &amp\; Flow/s (9)<br />\n04/06 - Postnatal Yoga (10)</p>\n\n<p><strong>INVESTMENT:</strong></p>\n\n<p>$250</p>\n\n<p><strong>ABOUT THE TEACHER: </strong></p>\n\n<p>Hello\, my name is Rachel and might I say thanks for your time! Although practicing for years\, the hubby and I have only recently decided to take the plunge and complete our 300hr training. His days are spent as a Professor of Theatre at Coker\, I am homemaker and homeschooling our two boys. The eldest\, Kellan\, is five years old and the younger\, Liam\, is two years old.</p>\n
LOCATION:Our Sacred Space Yoga 2nd floor of Black Creek Arts 116 W College Ave
UID:e.2045.3204
SEQUENCE:3
DTSTAMP:20260424T221230Z
URL:https://www.hartsvillechamber.org/events/details/prenatal-yoga-class-series-with-rachel-guidry-letraunik-3204
END:VEVENT

END:VCALENDAR
