BEGIN:VCALENDAR
VERSION:2.0
PRODID:-//ChamberMaster//Event Calendar 2.0//EN
METHOD:PUBLISH
X-PUBLISHED-TTL:P3D
REFRESH-INTERVAL:P3D
CALSCALE:GREGORIAN
BEGIN:VEVENT
DTSTART:20240406T130000Z
DTEND:20240406T153000Z
X-MICROSOFT-CDO-ALLDAYEVENT:FALSE
SUMMARY:QIGONG WITH ACUPRESSURE FOR A HAPPY NOSE WITH DIANE WIGGINS
DESCRIPTION:WHAT IS QIGONG?\n\n"Qigong\, pronounced "chi gong\," was developed in China thousands of years ago as part of traditional Chinese medicine. It involves using exercises to optimize energy within the body\, mind\, and spirit\, with the goal of improving and maintaining health and well-being. Qigong has both psychological and physical components and involves the regulation of the mind\, breath\, and body's movement and posture."\n\nFor full article: https://www.nccih.nih.gov/health/qigong-what-you-need-to-know#:~:text=What%20is%20qigong%20and%20how\,maintaining%20health%20and%20well%2Dbeing.\n\nAlso\, boost your immune system and find emotional balance! Breathe Better Feel AMAZING. Manage your seasonal or year round sinus issues with this ALLERGY RELIEF PROTOCOL.\n\n\n	\n	Dilate Nasal Passages Exercise\n	\n	\n	Breath Meditation \n	\n	\n	Acupressure for the face\n	\n	\n	Qigong Sequence\n	\n\n\nDATES & TIMES:\n\nSaturday\, April 6th\, 2024 \n\n9:00-11:30am\n\nINVESTMENT:\n\n$35\n\nABOUT THE TEACHER:\n\nDiane Wiggins\, a RYT500 & YACEP\, specializes in Yin Yoga with over 400 hours of Yin teacher training. Additionally\, she is a level III Gentle Somatic Yoga Practitioner. While delving into these practices\, she discovered QIGONG and developed a passion for energy work. She is now an Associate Instructor of the Yoqi style of Qigong. Through these modalities\, Diane seeks healing for various aspects of the "self": heart\, mind\, spirit\, energy\, emotion & physical. An essential part of her journey involves connecting with others and guiding them through these ancient arts of movement and stillness to a self-awareness & balance that leads to a life of joyful ease.
X-ALT-DESC;FMTTYPE=text/html:<p>WHAT IS QIGONG?</p>\n\n<p>&ldquo\;Qigong\, pronounced &ldquo\;chi gong\,&rdquo\; was developed in China thousands of years ago as part of traditional Chinese medicine. It involves using exercises to optimize energy within the body\, mind\, and spirit\, with the goal of improving and maintaining health and well-being. Qigong has both psychological and physical components and involves the regulation of the mind\, breath\, and body&rsquo\;s movement and posture.&rdquo\;</p>\n\n<p>For full article: https://www.nccih.nih.gov/health/qigong-what-you-need-to-know#:~:text=What%20is%20qigong%20and%20how\,maintaining%20health%20and%20well%2Dbeing.</p>\n\n<p>Also\, boost your immune system and find emotional balance! Breathe Better&mdash\;Feel AMAZING. Manage your seasonal or year round sinus issues with this ALLERGY RELIEF PROTOCOL.</p>\n\n<ul>\n	<li>\n	<p>Dilate Nasal Passages Exercise</p>\n	</li>\n	<li>\n	<p>Breath Meditation&nbsp\;</p>\n	</li>\n	<li>\n	<p>Acupressure for the face</p>\n	</li>\n	<li>\n	<p>Qigong Sequence</p>\n	</li>\n</ul>\n\n<p><strong>DATES &amp\; TIMES:</strong></p>\n\n<p>Saturday\, April 6th\, 2024&nbsp\;</p>\n\n<p>9:00-11:30am</p>\n\n<p><strong>INVESTMENT:</strong></p>\n\n<p>$35</p>\n\n<p><strong>ABOUT THE TEACHER:</strong></p>\n\n<p>Diane Wiggins\, a RYT500 &amp\; YACEP\, specializes in Yin Yoga with over 400 hours of Yin teacher training. Additionally\, she is a level III Gentle Somatic Yoga Practitioner. While delving into these practices\, she discovered QIGONG and developed a passion for energy work. She is now an Associate Instructor of the Yoqi style of Qigong. Through these modalities\, Diane seeks healing for various aspects of the &ldquo\;self&rdquo\;: heart\, mind\, spirit\, energy\, emotion &amp\; physical. An essential part of her journey involves connecting with others and guiding them through these ancient arts of movement and stillness to a self-awareness &amp\; balance that leads to a life of joyful ease.</p>\n
LOCATION:Black Creek Arts
UID:e.2045.2544
SEQUENCE:3
DTSTAMP:20260425T160108Z
URL:https://www.hartsvillechamber.org/events/details/qigong-with-acupressure-for-a-happy-nose-with-diane-wiggins-2544
END:VEVENT

END:VCALENDAR
