BEGIN:VCALENDAR
VERSION:2.0
PRODID:-//ChamberMaster//Event Calendar 2.0//EN
METHOD:PUBLISH
X-PUBLISHED-TTL:P3D
REFRESH-INTERVAL:P3D
CALSCALE:GREGORIAN
BEGIN:VEVENT
DTSTART:20240420T233000Z
DTEND:20240421T013000Z
X-MICROSOFT-CDO-ALLDAYEVENT:FALSE
SUMMARY:Raison d’être\, Spring Choral Concert
DESCRIPTION:Raison d' tre\, Spring Choral Concert\, April 20\, 7:30 p.m. at St. Bartholomew's Episcopal Church\; $10 students/seniors\, $20 General Admission\n\nThe Coker University Choral Ensembles will perform a collection of music that is dear to our heart from around the world! Our treble ensemble\, Coker Cantilena will perform a variety of musical styles from Spiritual to Art Songs and the Coker Singers will be joined by outstanding guest artists and virtuosic\n\ninstrumentalists. Join us in celebrating the beautiful choral repertoire with the Coker University Choral Ensembles and experience the Raison d' tre\, reasons for our singing!
X-ALT-DESC;FMTTYPE=text/html:<p><strong><em>Raison d&rsquo\;&ecirc\;tre</em>\, Spring Choral Concert\, April 20\, 7:30 p.m. at St. Bartholomew&rsquo\;s Episcopal Church\; $10 students/seniors\, $20 General Admission</strong></p>\n\n<p>The Coker University Choral Ensembles will perform a collection of music that is dear to our heart from around the world! Our treble ensemble\, Coker Cantilena will perform a variety of musical styles from Spiritual to Art Songs and the Coker Singers will be joined by outstanding guest artists and virtuosic<br />\ninstrumentalists. Join us in celebrating the beautiful choral repertoire with the Coker University Choral Ensembles and experience the&nbsp\;<em>Raison d&rsquo\;&ecirc\;tre</em>\, reasons for our singing!</p>\n
LOCATION:St. Bartholomew's Episcopal Church
UID:e.2045.2541
SEQUENCE:3
DTSTAMP:20260425T155742Z
URL:https://www.hartsvillechamber.org/events/details/raison-d-&#234;tre-spring-choral-concert-2541
END:VEVENT

END:VCALENDAR
