BEGIN:VCALENDAR
VERSION:2.0
PRODID:-//ChamberMaster//Event Calendar 2.0//EN
METHOD:PUBLISH
X-PUBLISHED-TTL:P3D
REFRESH-INTERVAL:P3D
CALSCALE:GREGORIAN
BEGIN:VEVENT
DTSTART:20240423T203000Z
DTEND:20240423T210000Z
X-MICROSOFT-CDO-ALLDAYEVENT:FALSE
SUMMARY:Ribbon Cutting Celebration- Looky Loo Vintage & Boutique Mall
DESCRIPTION:Come celebrate the 6th month anniversary of Looky Loo with their Ribbon Cutting!
X-ALT-DESC;FMTTYPE=text/html:Come celebrate the 6th month anniversary of Looky Loo with their Ribbon Cutting!&nbsp\;
LOCATION:117 West Home Ave Hartsville\, SC 29550
UID:e.2045.2719
SEQUENCE:3
DTSTAMP:20260425T172845Z
URL:https://www.hartsvillechamber.org/events/details/ribbon-cutting-celebration-looky-loo-vintage-boutique-mall-2719
END:VEVENT

END:VCALENDAR
