BEGIN:VCALENDAR
VERSION:2.0
PRODID:-//ChamberMaster//Event Calendar 2.0//EN
METHOD:PUBLISH
X-PUBLISHED-TTL:P3D
REFRESH-INTERVAL:P3D
CALSCALE:GREGORIAN
BEGIN:VEVENT
DTSTART:20251101T160000Z
DTEND:20251102T010000Z
X-MICROSOFT-CDO-ALLDAYEVENT:FALSE
SUMMARY:Roots & Rhythms Music & Arts Festival
DESCRIPTION:Roots & Rhythms: Deeply Rooted\, Wildly Empowering\n\n\n\nIn celebration of 10 years providing positive youth development in Darlington County\, join us for the Roots & Rhythms Music & Arts Festival on our beautiful 5-acre campus! Enjoy a day of live music\, local art\, and delicious food & beverage!\n\n\n\nMore details and sponsorship opportunities coming soon.
X-ALT-DESC;FMTTYPE=text/html:<strong>Roots &amp\; Rhythms: Deeply Rooted\, Wildly Empowering</strong><br />\n<br />\nIn celebration of 10 years providing positive youth development in Darlington County\, join us for the Roots &amp\; Rhythms Music &amp\; Arts Festival on our beautiful 5-acre campus! Enjoy a day of live music\, local art\, and delicious food &amp\; beverage!<br />\n<br />\nMore details and sponsorship opportunities coming soon.&nbsp\;
LOCATION:Cypress Adventures Outdoor Education Center 881 Loblolly Ln\, Hartsville\, South Carolina
UID:e.2045.3298
SEQUENCE:3
DTSTAMP:20260425T105131Z
URL:https://www.hartsvillechamber.org/events/details/roots-rhythms-music-arts-festival-3298
END:VEVENT

END:VCALENDAR
