BEGIN:VCALENDAR
VERSION:2.0
PRODID:-//ChamberMaster//Event Calendar 2.0//EN
METHOD:PUBLISH
X-PUBLISHED-TTL:P3D
REFRESH-INTERVAL:P3D
CALSCALE:GREGORIAN
BEGIN:VEVENT
DTSTART:20240413T183000Z
DTEND:20240413T203000Z
X-MICROSOFT-CDO-ALLDAYEVENT:FALSE
SUMMARY:Senior Thesis Concert
DESCRIPTION:April 11-13: Senior Thesis Concert at the Watson Theater*\, TH/F at 7:30 p.m. and on Saturday at 2:30 p.m.\n\n*This event is not free\, the concert is $20 for adults\, $10 for students and seniors\, and free with a Coker University I.D.
X-ALT-DESC;FMTTYPE=text/html:<p><strong>April 11-13: Senior Thesis Concert at the Watson Theater*\, TH/F at 7:30 p.m. and on Saturday at 2:30 p.m.</strong><br />\n<span style="color:rgb(16\, 16\, 16)\; font-family:brandon-grotesque\; font-size:14px">*This event is not free\, the concert is $20 for adults\, $10 for students and seniors\, and free with a Coker University I.D.</span></p>\n
LOCATION:Watson Theater
UID:e.2045.2539
SEQUENCE:3
DTSTAMP:20260425T155659Z
URL:https://www.hartsvillechamber.org/events/details/senior-thesis-concert-2539
END:VEVENT

END:VCALENDAR
