BEGIN:VCALENDAR
VERSION:2.0
PRODID:-//ChamberMaster//Event Calendar 2.0//EN
METHOD:PUBLISH
X-PUBLISHED-TTL:P3D
REFRESH-INTERVAL:P3D
CALSCALE:GREGORIAN
BEGIN:VEVENT
DTSTART:20250410T233000Z
DTEND:20250412T010000Z
X-MICROSOFT-CDO-ALLDAYEVENT:FALSE
SUMMARY:Senior Thesis Concert & Dance Alumni Performance
DESCRIPTION:Senior Thesis Concert & Dance Alumni Performance   April 10-11\, 7:30 p.m.\, Watson Theatre\; $5 students/seniors\, $10 General Admission\n\nThe dance and theater senior thesis performance is a culmination of 4 years of creative and scholarly research. This year\, we have the special privilege of hosting alumni of the dance program in a special combined Senior Thesis/Alumni concert on Saturday\, April 12. Join us for a special Coker University "Then and Now" arts spectacular.
X-ALT-DESC;FMTTYPE=text/html:<p><strong>Senior Thesis Concert &amp\; Dance Alumni Performance &ndash\; April 10-11\, 7:30 p.m.\, Watson Theatre\; $5 students/seniors\, $10 General Admission</strong><br />\nThe dance and theater senior thesis performance is a culmination of 4 years of creative and&nbsp\;scholarly research. This year\, we have the special privilege of hosting alumni of the dance program in a&nbsp\;special combined Senior Thesis/Alumni concert on Saturday\, April 12. Join us for a special Coker&nbsp\;University &ldquo\;Then and Now&rdquo\; arts spectacular.</p>\n
LOCATION:Watson Theater
UID:e.2045.3046
SEQUENCE:3
DTSTAMP:20260424T184722Z
URL:https://www.hartsvillechamber.org/events/details/senior-thesis-concert-dance-alumni-performance-3046
END:VEVENT

END:VCALENDAR
