BEGIN:VCALENDAR
VERSION:2.0
PRODID:-//ChamberMaster//Event Calendar 2.0//EN
METHOD:PUBLISH
X-PUBLISHED-TTL:P3D
REFRESH-INTERVAL:P3D
CALSCALE:GREGORIAN
BEGIN:VEVENT
DTSTART:20250329T140000Z
DTEND:20250329T160000Z
X-MICROSOFT-CDO-ALLDAYEVENT:FALSE
SUMMARY:Silent Auction to benefit Trent Hill Center Sponsored by Hartsville High School's National Honor Society
DESCRIPTION:Silent Auction to benefit Trent Hill Center sponsored by Hartsville High School's National Honor Society.
X-ALT-DESC;FMTTYPE=text/html:Silent Auction to benefit Trent Hill Center sponsored by Hartsville High School&#39\;s National Honor Society.
LOCATION:Hartsville High School Arena Lobby
UID:e.2045.3284
SEQUENCE:3
DTSTAMP:20260424T202737Z
URL:https://www.hartsvillechamber.org/events/details/silent-auction-to-benefit-trent-hill-center-sponsored-by-hartsville-high-school-s-national-honor-society-3284
END:VEVENT

END:VCALENDAR
