BEGIN:VCALENDAR
VERSION:2.0
PRODID:-//ChamberMaster//Event Calendar 2.0//EN
METHOD:PUBLISH
X-PUBLISHED-TTL:P3D
REFRESH-INTERVAL:P3D
CALSCALE:GREGORIAN
BEGIN:VEVENT
DTSTART:20250206T230000Z
DTEND:20250207T010000Z
X-MICROSOFT-CDO-ALLDAYEVENT:FALSE
SUMMARY:Sip 'N Paint with Ember Estridge
DESCRIPTION:Come as a couple\, with your bestie\, or just enjoy a night out with us. This will be a guided painting lesson\, so no experience is necessary. Sign up and enjoy a relaxing evening in downtown Hartsville. This event is geared towards adults\, 18+ unless accompanied by a parent. Wine is available to sip. \n\n*When signing up\, please specify whether you want a left\, right\, or (if signing up as a pair) both poses. \n\nClass size: limit 20\n\nDATE AND TIME:\n\nThursday\, February 6th from 6:00-8:00pm\n\nCOST:\n\n$35 per person (all supplies included) \n\n\n\n\n\n\n\nAbout the Teacher:\n\nI make illustrative art that is explorative and eclectic in nature. Using vivid colors and whimsical themes\, I seek to use art as a tool for coping and overcoming the discordant world we live in. Creating both sequential mass consumption pieces as well as stand-alone gallery pieces\, I desire my work to captivate a wide audience.\n\nAs an art educator in public Title 1 schools\, much of my work is inspired and created around the classroom. I tailor projects and lessons to engage and motivate students\, impacting my own art making in the process. The resourcefulness and inventiveness of creating art projects accessible to a wide range of students and ages allows me to see multiple possibilities for each art material.\n\nVisit Ember's Website: https://www.embersartwork.com/
X-ALT-DESC;FMTTYPE=text/html:<div style="margin-left:auto\; margin-right:auto">\n<div>\n<div>\n<p>Come as a couple\, with your bestie\, or just enjoy a night out with us. This will be a guided painting lesson\, so no experience is necessary. Sign up and enjoy a relaxing evening in downtown Hartsville.&nbsp\;This event is geared towards adults\, 18+ unless accompanied by a parent. Wine is available to sip.&nbsp\;</p>\n\n<p>*When signing up\, please specify whether you want a left\, right\, or (if signing up as a pair) both poses.&nbsp\;</p>\n\n<p>Class size: limit 20</p>\n\n<p><strong>DATE AND TIME:</strong></p>\n\n<p>Thursday\, February 6th from 6:00-8:00pm</p>\n\n<p><strong>COST:</strong></p>\n\n<p>$35 per person (all supplies included)<span style="text-align:center">&nbsp\;</span></p>\n</div>\n</div>\n</div>\n\n<div style="margin-left:auto\; margin-right:auto">\n<div>\n<div>\n<p><strong>About the Teacher:</strong></p>\n\n<p>I make illustrative art that is explorative and eclectic in nature. Using vivid colors and whimsical themes\, I seek to use art as a tool for coping and overcoming the discordant world we live in. Creating both sequential mass consumption pieces as well as stand-alone gallery pieces\, I desire my work to captivate a wide audience.</p>\n\n<p>As an art educator in public Title 1 schools\, much of my work is inspired and created around the classroom. I tailor projects and lessons to engage and motivate students\, impacting my own art making in the process. The resourcefulness and inventiveness of creating art projects accessible to a wide range of students and ages allows me to see multiple possibilities for each art material.</p>\n\n<p>Visit Ember&rsquo\;s Website: https://www.embersartwork.com/</p>\n</div>\n</div>\n</div>\n
LOCATION:Black Creek Arts
UID:e.2045.3209
SEQUENCE:3
DTSTAMP:20260424T220916Z
URL:https://www.hartsvillechamber.org/events/details/sip-n-paint-with-ember-estridge-3209
END:VEVENT

END:VCALENDAR
