BEGIN:VCALENDAR
VERSION:2.0
PRODID:-//ChamberMaster//Event Calendar 2.0//EN
METHOD:PUBLISH
X-PUBLISHED-TTL:P3D
REFRESH-INTERVAL:P3D
CALSCALE:GREGORIAN
BEGIN:VEVENT
DTSTART:20260127T223000Z
DTEND:20260128T000000Z
X-MICROSOFT-CDO-ALLDAYEVENT:FALSE
SUMMARY:Small Business Networking Event
DESCRIPTION:The FMU Kelley Center is excited to host our first networking event of 2026 for future & current small business owners! Make connections\, share advice\, & learn more about local small business services at this free event.
X-ALT-DESC;FMTTYPE=text/html:<span style="font-family:aptos\,sans-serif"><span style="font-size:12.0pt">The FMU Kelley Center is excited to host our first networking event of 2026 for future &amp\; current small business owners! Make connections\, share advice\, &amp\; learn more about local small business services at this free event.</span></span>
LOCATION:FMU Gately Gallery 142 N Dargan St Florence\, South Carolina
UID:e.2045.3504
SEQUENCE:3
DTSTAMP:20260425T121631Z
URL:https://www.hartsvillechamber.org/events/details/small-business-networking-event-3504
END:VEVENT

END:VCALENDAR
