BEGIN:VCALENDAR
VERSION:2.0
PRODID:-//ChamberMaster//Event Calendar 2.0//EN
METHOD:PUBLISH
X-PUBLISHED-TTL:P3D
REFRESH-INTERVAL:P3D
CALSCALE:GREGORIAN
BEGIN:VEVENT
DTSTART:20260131T140000Z
DTEND:20260131T230000Z
X-MICROSOFT-CDO-ALLDAYEVENT:FALSE
SUMMARY:Southern Singing Festival - This Event Has Been Cancelled Due To Weather
DESCRIPTION:Jan. 31 at 9 a.m.   6 p.m.\, Watson Theater\nCome hear the culminating concert of the 2nd Annual Southern Singing Festival at Coker University organized by Dr. Kevin Crowe. Under the direction of specialists and guest conductors\, high school and college students learn authentic performance practices associated with traditionally Southern styles of singing. This year\, singers will focus on spirituals\, gospel\, and bluegrass. Free.
X-ALT-DESC;FMTTYPE=text/html:<p><strong>Jan. 31 at 9 a.m. &ndash\; 6 p.m.\, Watson Theater</strong></p>\n<span style="background-color:transparent\; color:rgb(0\, 0\, 0)\; font-family:helvetica neue\,sans-serif\; font-size:10pt">Come hear the culminating concert of the 2</span><span style="background-color:transparent\; color:rgb(0\, 0\, 0)\; font-family:helvetica neue\,sans-serif\; font-size:10pt"><span style="font-size:0.6em">nd</span></span><span style="background-color:transparent\; color:rgb(0\, 0\, 0)\; font-family:helvetica neue\,sans-serif\; font-size:10pt"> Annual Southern Singing Festival at Coker University organized by Dr. Kevin Crowe. Under the direction of specialists and guest conductors\, high school and college students learn authentic performance practices associated with traditionally Southern styles of singing. This year\, singers will focus on spirituals\, gospel\, and bluegrass. Free.</span>
LOCATION:Watson Theater\, Coker University
UID:e.2045.3466
SEQUENCE:3
DTSTAMP:20260425T122039Z
URL:https://www.hartsvillechamber.org/events/details/southern-singing-festival-3466
END:VEVENT

END:VCALENDAR
