BEGIN:VCALENDAR
VERSION:2.0
PRODID:-//ChamberMaster//Event Calendar 2.0//EN
METHOD:PUBLISH
X-PUBLISHED-TTL:P3D
REFRESH-INTERVAL:P3D
CALSCALE:GREGORIAN
BEGIN:VEVENT
DTSTART:20250401T150000Z
DTEND:20250401T180000Z
X-MICROSOFT-CDO-ALLDAYEVENT:FALSE
SUMMARY:SPC Credit Union Chicken Bog Fundraiser
DESCRIPTION:SPC Credit Union's Annual Chicken Bog Fundraiser is coming BACK to downtown Hartsville & beyond on Tuesday\, April 1. Purchase your tickets soon with any SPC Credit Union employee. Plates are $10 each and include Oliver Segars' famous chicken bog\, bread\, pickles\, green beans\, & dessert. We'll deliver for orders of 10 or more!
X-ALT-DESC;FMTTYPE=text/html:<p><span style="font-size:14px"><span style="color:rgba(40\, 26\, 23\, 0.6)\; font-family:minion-pro">SPC Credit Union&rsquo\;s Annual Chicken Bog Fundraiser is coming BACK to downtown Hartsville &amp\; beyond on Tuesday\, April 1. Purchase your tickets soon with any SPC Credit Union employee. Plates are $10 each and include Oliver Segars&rsquo\; famous chicken bog\, bread\, pickles\, green beans\, &amp\; dessert. </span><em>We&rsquo\;ll deliver for orders of 10 or more!</em></span></p>\n
LOCATION:The Center Theater Parking Lot\; adjacent to SPC Credit Union branch in downtown Hartsville at 204 N. 5th St.
UID:e.2045.3277
SEQUENCE:3
DTSTAMP:20260424T184722Z
URL:https://www.hartsvillechamber.org/events/details/spc-credit-union-chicken-bog-fundraiser-3277
END:VEVENT

END:VCALENDAR
