BEGIN:VCALENDAR
VERSION:2.0
PRODID:-//ChamberMaster//Event Calendar 2.0//EN
METHOD:PUBLISH
X-PUBLISHED-TTL:P3D
REFRESH-INTERVAL:P3D
CALSCALE:GREGORIAN
BEGIN:VEVENT
DTSTART:20250327T213000Z
DTEND:20250327T230000Z
X-MICROSOFT-CDO-ALLDAYEVENT:FALSE
SUMMARY:SPC CU Annual Membership Meeting
DESCRIPTION:Make the most of your Membership! Join us at Lakeview Baptist Church on Thursday\, March 27\, 2025 for dinner\, SPC swag\, and a snapshot of what's going on at your local credit union. Doors will open for dinner and seating at 5:30 followed by a program that will begin at 6:00p.m.\n\nNo R.S.V.P. is required\, although keep in mind this year's program will be offered in-person only\; no livestream option will be available.
X-ALT-DESC;FMTTYPE=text/html:<p>Make the most of your Membership! Join us at Lakeview Baptist Church on Thursday\, March 27\, 2025 for dinner\, SPC swag\, and a snapshot of what&rsquo\;s going on at your local credit union. Doors will open for dinner and seating at 5:30 followed by a program that will begin at 6:00p.m.</p>\n\n<p><em>No R.S.V.P. is required\, although keep in mind this year&rsquo\;s program will be offered in-person only\; no livestream option will be available.</em></p>\n
LOCATION:Lakeview Baptist Church\; 202 Lakeview Blvd.\, Hartsville\, S.C. 29550
UID:e.2045.3285
SEQUENCE:3
DTSTAMP:20260424T202108Z
URL:https://www.hartsvillechamber.org/events/details/spc-cu-annual-membership-meeting-3285
END:VEVENT

END:VCALENDAR
