BEGIN:VCALENDAR
VERSION:2.0
PRODID:-//ChamberMaster//Event Calendar 2.0//EN
METHOD:PUBLISH
X-PUBLISHED-TTL:P3D
REFRESH-INTERVAL:P3D
CALSCALE:GREGORIAN
BEGIN:VEVENT
DTSTART:20250709T223000Z
DTEND:20250709T233000Z
X-MICROSOFT-CDO-ALLDAYEVENT:FALSE
SUMMARY:Special Summer Good News Club
DESCRIPTION:A three night\, one hour special summer good news club event put on by CYIA!
X-ALT-DESC;FMTTYPE=text/html:A three night\, one hour special summer good news club event put on by CYIA!
LOCATION:First Baptist Church 104 E Home Ave Hartsville\, SC 29550
UID:e.2045.3381
SEQUENCE:3
DTSTAMP:20260425T033532Z
URL:https://www.hartsvillechamber.org/events/details/special-summer-good-news-club-07-09-2025-3381
END:VEVENT

END:VCALENDAR
