BEGIN:VCALENDAR
VERSION:2.0
PRODID:-//ChamberMaster//Event Calendar 2.0//EN
METHOD:PUBLISH
X-PUBLISHED-TTL:P3D
REFRESH-INTERVAL:P3D
CALSCALE:GREGORIAN
BEGIN:VEVENT
DTSTART;VALUE=DATE:20250405
DTEND;VALUE=DATE:20250406
TRANSP:TRANSPARENT
X-MICROSOFT-CDO-ALLDAYEVENT:TRUE
SUMMARY:Sport Clips Haircuts VFW Help A Hero 200
DESCRIPTION:Get ready to witness the excitement next spring as the NASCAR Xfinity Series takes on The Lady in Black during Darlington Raceway's 75th Anniversary celebration!
X-ALT-DESC;FMTTYPE=text/html:<span style="color:rgb(0\, 0\, 0)\; font-family:figtree\,sans-serif\; font-size:16px">Get ready to witness the excitement next spring as the&nbsp\;</span><span style="color:rgb(0\, 0\, 0)\; font-family:figtree\,sans-serif\; font-size:16px">NASCAR Xfinity Series</span><span style="color:rgb(0\, 0\, 0)\; font-family:figtree\,sans-serif\; font-size:16px">&nbsp\;takes on&nbsp\;</span><span style="color:rgb(0\, 0\, 0)\; font-family:figtree\,sans-serif\; font-size:16px">The Lady in Black during Darlington Raceway&rsquo\;s 75th Anniversary&nbsp\;</span><span style="color:rgb(0\, 0\, 0)\; font-family:figtree\,sans-serif\; font-size:16px">celebration!</span>
LOCATION:Darlington Raceway
UID:e.2045.3324
SEQUENCE:3
DTSTAMP:20260424T185048Z
URL:https://www.hartsvillechamber.org/events/details/sport-clips-haircuts-vfw-help-a-hero-200-04-05-2025-3324
END:VEVENT

END:VCALENDAR
