BEGIN:VCALENDAR
VERSION:2.0
PRODID:-//ChamberMaster//Event Calendar 2.0//EN
METHOD:PUBLISH
X-PUBLISHED-TTL:P3D
REFRESH-INTERVAL:P3D
CALSCALE:GREGORIAN
BEGIN:VEVENT
DTSTART:20240402T113000Z
DTEND:20240402T213000Z
X-MICROSOFT-CDO-ALLDAYEVENT:FALSE
SUMMARY:Spring Break Camp
DESCRIPTION:Hartsville Boys & Girls Club announces its schedules for Good Friday and the week of Spring Break\, April 1-5. Good Friday will be a half day at the Club as schools close for the day.\n\nSpring Break: We will be open for full days from 7:30 a.m. to 5:30 p.m.\n\nSummer registration and deadlines are scheduled to be released mid-April.
X-ALT-DESC;FMTTYPE=text/html:<p>Hartsville Boys &amp\; Girls Club announces its schedules for Good Friday and the week of Spring Break\, April 1-5. Good Friday will&nbsp\;be a half day at the Club as schools close for the day.</p>\n\n<p><strong>Spring Break:&nbsp\;</strong>We will be open for full days from 7:30 a.m. to 5:30 p.m.</p>\n\n<p>Summer registration and deadlines are scheduled to be released mid-April.</p>\n
LOCATION:1103A S. Sixth St.\, Hartsville
UID:e.2045.2709
SEQUENCE:3
DTSTAMP:20260425T155553Z
URL:https://www.hartsvillechamber.org/events/details/spring-break-camp-04-02-2024-2709
END:VEVENT

END:VCALENDAR
