BEGIN:VCALENDAR
VERSION:2.0
PRODID:-//ChamberMaster//Event Calendar 2.0//EN
METHOD:PUBLISH
X-PUBLISHED-TTL:P3D
REFRESH-INTERVAL:P3D
CALSCALE:GREGORIAN
BEGIN:VEVENT
DTSTART:20250414T233000Z
DTEND:20250415T010000Z
X-MICROSOFT-CDO-ALLDAYEVENT:FALSE
SUMMARY:Spring Choral Concert
DESCRIPTION:Spring Choral Concert   April 14\, 7:30 p.m.\, Watson Theatre\; $5 students/seniors\, $10 General Admission\n\nJoin the Coker University Choral Program in the culminating concert of the academic year. This performance will showcase the talents and growth of our students and feature music in a variety of styles and genres.
X-ALT-DESC;FMTTYPE=text/html:<p><strong>Spring Choral Concert &ndash\; April 14\, 7:30 p.m.\, Watson Theatre\; $5 students/seniors\, $10 General Admission</strong><br />\nJoin the Coker University Choral Program in the culminating concert of the academic year. This performance will showcase the talents and growth of our students and feature music in a variety of styles and genres.</p>\n
LOCATION:Watson Theater
UID:e.2045.3047
SEQUENCE:3
DTSTAMP:20260424T184011Z
URL:https://www.hartsvillechamber.org/events/details/spring-choral-concert-3047
END:VEVENT

END:VCALENDAR
