BEGIN:VCALENDAR
VERSION:2.0
PRODID:-//ChamberMaster//Event Calendar 2.0//EN
METHOD:PUBLISH
X-PUBLISHED-TTL:P3D
REFRESH-INTERVAL:P3D
CALSCALE:GREGORIAN
BEGIN:VEVENT
DTSTART:20250226T003000Z
DTEND:20250226T020000Z
X-MICROSOFT-CDO-ALLDAYEVENT:FALSE
SUMMARY:Spring Music Student Recital
DESCRIPTION:Spring Music Student Recital at the Hannah Lide Coker Recital Hall\, 7:30 p.m.\n\nJoin the Coker University Music Program as they showcase student work in the Spring Music Student Recital. The recital will feature solo performances by vocal and instrumental students.
X-ALT-DESC;FMTTYPE=text/html:<p><strong>Spring Music Student Recital at the Hannah Lide Coker Recital Hall\, 7:30 p.m.</strong><br />\nJoin the Coker University Music Program as they showcase student work in the Spring Music Student Recital. The recital will feature solo performances by vocal and instrumental students.</p>\n
LOCATION:Hannah Lide Coker Recital Hall
UID:e.2045.3041
SEQUENCE:3
DTSTAMP:20260424T220757Z
URL:https://www.hartsvillechamber.org/events/details/spring-music-student-recital-3041
END:VEVENT

END:VCALENDAR
