BEGIN:VCALENDAR
VERSION:2.0
PRODID:-//ChamberMaster//Event Calendar 2.0//EN
METHOD:PUBLISH
X-PUBLISHED-TTL:P3D
REFRESH-INTERVAL:P3D
CALSCALE:GREGORIAN
BEGIN:VEVENT
DTSTART:20240320T230000Z
DTEND:20240321T003000Z
X-MICROSOFT-CDO-ALLDAYEVENT:FALSE
SUMMARY:Spring Revival
DESCRIPTION:Spring into spiritual renewal with Rick Coram Ministries! Join us for a transformative Spring Revival starting Sunday\, March 17th at 10:30 am\, and continue the journey each evening through the 20th at 7 pm. Embrace the season of growth and revival with inspiring messages and uplifting fellowship. All are welcome to join us on this journey of faith and renewal!\n\n \n\nREVIVAL MEETINGS:\n\nMarch 17th @10:30 am\n\nMarch 17th @7:00 pm\n\nMarch 18th @7:00 pm\n\nMarch 19th @7:00 pm\n\nMarch 20th @7:00 pm\n\n \n\nKelleytown Baptist Church\n\n2609 Kelleytown Road\n\nHartsville\, SC 29550
X-ALT-DESC;FMTTYPE=text/html:<div>\n<div>\n<div>\n<div>\n<div>\n<div>\n<div style="margin-left:auto\; margin-right:auto">\n<div>\n<div>\n<div>\n<div>\n<div>\n<div><strong>Spring into spiritual renewal</strong> with Rick Coram Ministries! Join us for a transformative Spring Revival starting Sunday\, March 17th at 10:30 am\, and continue the journey each evening through the 20th at 7 pm. Embrace the season of growth and revival with inspiring messages and uplifting fellowship. All are welcome to join us on this journey of faith and renewal!<br />\n&nbsp\;</div>\n\n<div>REVIVAL MEETINGS:</div>\n\n<div>March 17th @10:30 am<br />\nMarch 17th @7:00 pm<br />\nMarch 18th @7:00 pm<br />\nMarch 19th @7:00 pm<br />\nMarch 20th @7:00 pm<br />\n&nbsp\;</div>\n\n<div>Kelleytown Baptist Church<br />\n2609 Kelleytown Road<br />\nHartsville\, SC 29550</div>\n</div>\n</div>\n</div>\n\n<div>\n<div style="margin-left:-0.25rem">\n<div>&nbsp\;</div>\n\n<div>&nbsp\;</div>\n</div>\n</div>\n</div>\n\n<div>\n<div>&nbsp\;</div>\n</div>\n</div>\n</div>\n</div>\n</div>\n</div>\n</div>\n</div>\n</div>\n\n<div>\n<div>\n<div>&nbsp\;</div>\n</div>\n</div>\n
LOCATION:Kelleytown Baptist Church 2609 Kelleytown Road Hartsville\, SC 29550
UID:e.2045.2684
SEQUENCE:3
DTSTAMP:20260425T172449Z
URL:https://www.hartsvillechamber.org/events/details/spring-revival-03-20-2024-2684
END:VEVENT

END:VCALENDAR
