BEGIN:VCALENDAR
VERSION:2.0
PRODID:-//ChamberMaster//Event Calendar 2.0//EN
METHOD:PUBLISH
X-PUBLISHED-TTL:P3D
REFRESH-INTERVAL:P3D
CALSCALE:GREGORIAN
BEGIN:VEVENT
DTSTART:20260125T151500Z
DTEND:20260125T161500Z
X-MICROSOFT-CDO-ALLDAYEVENT:FALSE
SUMMARY:St. Luke Global Methodist Church - Come worship with us!
DESCRIPTION:We are an expanding and compassionate congregation of the Global Methodist Church\, and we would be delighted to have you join us for worship!
X-ALT-DESC;FMTTYPE=text/html:We are an expanding and compassionate congregation of the Global Methodist Church\, and we would be delighted to have you join us for worship!
LOCATION:St. Luke Global Methodist Church 302 Dunlap Drive Hartsville SC 29550
UID:e.2045.2885
SEQUENCE:3
DTSTAMP:20260425T122512Z
URL:https://www.hartsvillechamber.org/events/details/st-luke-global-methodist-church-come-worship-with-us-01-25-2026-2885
END:VEVENT

END:VCALENDAR
