BEGIN:VCALENDAR
VERSION:2.0
PRODID:-//ChamberMaster//Event Calendar 2.0//EN
METHOD:PUBLISH
X-PUBLISHED-TTL:P3D
REFRESH-INTERVAL:P3D
CALSCALE:GREGORIAN
BEGIN:VEVENT
DTSTART:20210712T160000Z
DTEND:20210715T160000Z
X-MICROSOFT-CDO-ALLDAYEVENT:FALSE
SUMMARY:St. Luke UMC Vacation Bible School 2021
DESCRIPTION:St. Luke UMC Vacation Bible School 2021
X-ALT-DESC;FMTTYPE=text/html:St. Luke UMC Vacation Bible School 2021<br />\n&nbsp\;
LOCATION:More details to come!
UID:e.2045.1021
SEQUENCE:3
DTSTAMP:20260419T142406Z
URL:https://www.hartsvillechamber.org/events/details/st-luke-umc-vacation-bible-school-2021-1021
END:VEVENT

END:VCALENDAR
