BEGIN:VCALENDAR
VERSION:2.0
PRODID:-//ChamberMaster//Event Calendar 2.0//EN
METHOD:PUBLISH
X-PUBLISHED-TTL:P3D
REFRESH-INTERVAL:P3D
CALSCALE:GREGORIAN
BEGIN:VEVENT
DTSTART:20250105T153000Z
DTEND:20250105T163000Z
X-MICROSOFT-CDO-ALLDAYEVENT:FALSE
SUMMARY:Sunday Worship
DESCRIPTION:Come to our multigenerational\, blended worship service!
X-ALT-DESC;FMTTYPE=text/html:Come to our multigenerational\, blended worship service!
LOCATION:We are located in downtown Hartsville across from Sonic
UID:e.2045.1729
SEQUENCE:3
DTSTAMP:20260425T013517Z
URL:https://www.hartsvillechamber.org/events/details/sunday-worship-01-05-2025-1729
END:VEVENT

END:VCALENDAR
