BEGIN:VCALENDAR
VERSION:2.0
PRODID:-//ChamberMaster//Event Calendar 2.0//EN
METHOD:PUBLISH
X-PUBLISHED-TTL:P3D
REFRESH-INTERVAL:P3D
CALSCALE:GREGORIAN
BEGIN:VEVENT
DTSTART:20250209T220000Z
DTEND:20250210T040000Z
X-MICROSOFT-CDO-ALLDAYEVENT:FALSE
SUMMARY:Super Bowl Watch Party
DESCRIPTION:Come watch the Super Bowl at Doc's Humidor!
X-ALT-DESC;FMTTYPE=text/html:Come watch the Super Bowl at Doc&#39\;s Humidor!
LOCATION:Doc's Humidor
UID:e.2045.3268
SEQUENCE:3
DTSTAMP:20260424T220916Z
URL:https://www.hartsvillechamber.org/events/details/super-bowl-watch-party-3268
END:VEVENT

END:VCALENDAR
